BEGIN:VCALENDAR
VERSION:2.0
PRODID:-//ChamberMaster//Event Calendar 2.0//EN
METHOD:PUBLISH
X-PUBLISHED-TTL:P3D
REFRESH-INTERVAL:P3D
CALSCALE:GREGORIAN
BEGIN:VEVENT
DTSTART:20180413T010000Z
DTEND:20180413T040000Z
X-MICROSOFT-CDO-ALLDAYEVENT:FALSE
SUMMARY:SCORE Workshop - Hiring Made Easy
DESCRIPTION:Your most important asset is your employees. In a recent study it was estimated that it costs $65\,000 to hire one 25K employee. With that much money at stake you can't make mistakes. Two of the top five reasons a business fails is directly related to interviewing and hiring. Learn proper questions to ask to get applicants to open up.\n\n\n	List of Probing Questions\n	Finding The Right Applicant\n	Interview Red Flags\n	Creating a Job Description & Your Ad\n	Legal Issues in Interviewing\n	How To Motivate Your Employees \n\n\nBarry McKinley of SCORE has started\, owned & operated 10 different companies in 5 different industries. He sold each of the companies to investors\, employees and competitors including Fortune 1000 companies. With his vast experience he has been involved in all segments of business\, from hiring\, financing to sales and promotions\, and has counseled over 2\,100 SCORE clients.
X-ALT-DESC;FMTTYPE=text/html:<p style="margin: 0px 0px 18px\; padding: 0px\; color: rgb(0\, 0\, 144)\; font-family: Arial\, Helvetica\, sans-serif\; font-size: 12px\;"><span style="color:#000000\;"><span style="font-size: 10pt\;" title="">Your most important asset is your employees. In a recent study it was estimated that it costs $65\,000 to hire one 25K employee. With that much money at stake you can&rsquo\;t make mistakes. Two of the top five reasons a business fails is directly related to interviewing and hiring. Learn proper questions to ask to get applicants to open up.</span></span></p>\n\n<ul style="margin: 18px 0px 18px 18px\; padding-right: 0px\; padding-left: 0px\; list-style-position: outside\; list-style-image: initial\; color: rgb(0\, 0\, 144)\; font-family: Arial\, Helvetica\, sans-serif\; font-size: 12px\;">\n	<li style="margin: 0px\; padding: 0px\; color: rgb(0\, 0\, 128)\;"><span style="color:#000000\;"><span style="font-size: 10pt\;" title="">List of Probing Questions</span></span></li>\n	<li style="margin: 0px\; padding: 0px\; color: rgb(0\, 0\, 128)\;"><span style="color:#000000\;"><span style="font-size: 10pt\;" title="">Finding The Right Applicant</span></span></li>\n	<li style="margin: 0px\; padding: 0px\; color: rgb(0\, 0\, 128)\;"><span style="color:#000000\;"><span style="font-size: 10pt\;" title="">Interview Red Flags</span></span></li>\n	<li style="margin: 0px\; padding: 0px\; color: rgb(0\, 0\, 128)\;"><span style="color:#000000\;"><span style="font-size: 10pt\;" title="">Creating a Job Description &amp\; Your Ad</span></span></li>\n	<li style="margin: 0px\; padding: 0px\; color: rgb(0\, 0\, 128)\;"><span style="color:#000000\;"><span style="font-size: 10pt\;" title="">Legal Issues in Interviewing</span></span></li>\n	<li style="margin: 0px\; padding: 0px\; color: rgb(0\, 0\, 128)\;"><span style="color:#000000\;"><span style="font-size: 10pt\;" title="">How To Motivate Your Employees&nbsp\;</span></span></li>\n</ul>\n\n<p style="margin: 0px 0px 18px\; padding: 0px\; color: rgb(0\, 0\, 144)\; font-family: Arial\, Helvetica\, sans-serif\; font-size: 12px\;"><span style="color:#000000\;"><span style="font-size: 10pt\;" title=""><b>Barry McKinley of SCORE</b>&nbsp\;has started\, owned &amp\; operated 10 different companies in 5 different industries. He sold each of the companies to investors\, employees and competitors including Fortune 1000 companies. With his vast experience he has been involved in all segments of business\, from hiring\, financing to sales and promotions\, and has counseled over 2\,100 SCORE clients.</span></span></p>\n\n<p style="margin: 0px 0px 18px\; padding: 0px\; color: rgb(0\, 0\, 144)\; font-family: Arial\, Helvetica\, sans-serif\; font-size: 12px\;">&nbsp\;</p>\n\n<p style="margin: 0px 0px 18px\; padding: 0px\; color: rgb(0\, 0\, 144)\; font-family: Arial\, Helvetica\, sans-serif\; font-size: 12px\;">&nbsp\;</p>\n
LOCATION:Fullerton Public Library Main Branch (VM Hawkins) 353 W. Commonwealth Ave. Fullerton\, CA 92832
UID:e.887.21282
SEQUENCE:3
DTSTAMP:20260421T230703Z
URL:https://business.nocchamber.com/events/details/score-workshop-hiring-made-easy-21282
END:VEVENT

END:VCALENDAR
