BEGIN:VCALENDAR
VERSION:2.0
PRODID:-//ChamberMaster//Event Calendar 2.0//EN
METHOD:PUBLISH
X-PUBLISHED-TTL:P3D
REFRESH-INTERVAL:P3D
CALSCALE:GREGORIAN
BEGIN:VEVENT
DTSTART:20191018T010000Z
DTEND:20191018T034500Z
X-MICROSOFT-CDO-ALLDAYEVENT:FALSE
SUMMARY:SCORE Workshop: Hiring Made Easy
DESCRIPTION:In a recent study it was estimated that it costs $65\,000 to hire one 25K employee. With that much money at stake you can't make mistakes. Two of the top five reasons a business fails is directly related to interviewing and hiring. Learn proper questions to ask to get applicants to open up.\n\n  List of Probing Questions\n\n  Finding The Right Applicant\n\n  Interview Red Flags\n\n  Creating a Job Description & Your Ad\n\n  Legal Issues in Interviewing\n\n  How To Motivate Your Employees
X-ALT-DESC;FMTTYPE=text/html:<p>In a recent study it was estimated that it costs $65\,000 to hire one 25K employee. With that much money at stake you can&rsquo\;t make mistakes. Two of the top five reasons a business fails is directly related to interviewing and hiring. Learn proper questions to ask to get applicants to open up.</p>\n\n<div>&bull\; List of Probing Questions</div>\n\n<div>&bull\; Finding The Right Applicant</div>\n\n<div>&bull\; Interview Red Flags</div>\n\n<div>&bull\; Creating a Job Description &amp\; Your Ad</div>\n\n<div>&bull\; Legal Issues in Interviewing</div>\n\n<div>&bull\; How To Motivate Your Employees</div>\n
LOCATION:La Palma Community Center 7821 Walker Street La Palma\, CA 90623
UID:e.887.23752
SEQUENCE:3
DTSTAMP:20260421T230027Z
URL:https://business.nocchamber.com/events/details/score-workshop-hiring-made-easy-10-17-2019-23752
END:VEVENT

END:VCALENDAR
