BEGIN:VCALENDAR
VERSION:2.0
PRODID:-//ChamberMaster//Event Calendar 2.0//EN
METHOD:PUBLISH
X-PUBLISHED-TTL:P3D
REFRESH-INTERVAL:P3D
CALSCALE:GREGORIAN
BEGIN:VEVENT
DTSTART:20190201T153000Z
DTEND:20190201T183000Z
X-MICROSOFT-CDO-ALLDAYEVENT:FALSE
SUMMARY:SCORE Workshop - Growing Your Business with the Power of Social Media
DESCRIPTION:SCORE Workshop's Women in Business Breakfast Series - Growing Your Business with the Power of Social Media:\n\n	Branding in social media\n	Value of opt-in pages\n	Different avenues of social media\n	Attracting traffic to websites\n	Producing sales through websites
X-ALT-DESC;FMTTYPE=text/html:SCORE Workshop&#39\;s Women in Business Breakfast Series - Growing Your Business with the Power of Social Media:\n<ul>\n	<li>Branding in social media</li>\n	<li>Value of opt-in pages</li>\n	<li>Different avenues of social media</li>\n	<li>Attracting traffic to websites</li>\n	<li>Producing sales through websites</li>\n</ul>\n
LOCATION:The Center Club 650 Town Center Drive Costa Mesa\, CA 92626
UID:e.887.22946
SEQUENCE:3
DTSTAMP:20260422T091931Z
URL:https://business.nocchamber.com/events/details/score-workshop-growing-your-business-with-the-power-of-social-media-22946
END:VEVENT

END:VCALENDAR
