BEGIN:VCALENDAR
VERSION:2.0
PRODID:-//ChamberMaster//Event Calendar 2.0//EN
METHOD:PUBLISH
X-PUBLISHED-TTL:P3D
REFRESH-INTERVAL:P3D
CALSCALE:GREGORIAN
BEGIN:VEVENT
DTSTART:20180330T010000Z
DTEND:20180330T030000Z
X-MICROSOFT-CDO-ALLDAYEVENT:FALSE
SUMMARY:SCORE Workshop - Get Five-Star Reviews on Google\, Yelp\, and Facebook
DESCRIPTION:When consumers are searching online for businesses in your area\, do you show up? Whether potential customers are evaluating a new provider or are following up on a referral from a friend\, it's imperative that you stand out and shine. \n\n \n\nLearn how you can bolster your business's online presence to attract new customers and generate new revenue. \n\n \n\nAttendees will learn how to use free tools to take control of and improve your business's online pages\, and learn customer follow-up strategies that can be applied immediately. \n\n \n\nKim Olson presents this workshop.  Kim has collaborated with local businesses for over 4 years in her career as an account executive and marketer. She is currently Account Executive at Broadly.com\, which helps local businesses improve their online presence and grow word-of-mouth. Olson earned aBachelors from the Point Loma Nazarene University in San Diego with a degree in Communications.
X-ALT-DESC;FMTTYPE=text/html:<span style="color:#000000\;">&nbsp\;<br />\n<span style="font-family:arial\,sans-serif\;"><span style="font-size:10.0pt\;">When consumers are searching online for businesses in your area\, do you show up? Whether potential customers are evaluating a new provider or are following up on a referral from a friend\, it&#39\;s imperative that you stand out and shine.&nbsp\;</span></span><br />\n&nbsp\;<br />\n<span style="font-family:arial\,sans-serif\;"><span style="font-size:10.0pt\;">Learn how you can bolster your business&#39\;s online presence to attract new customers and generate new revenue.&nbsp\;</span></span><br />\n&nbsp\;<br />\n<span style="font-family:arial\,sans-serif\;"><span style="font-size:10.0pt\;">Attendees will learn how to use free tools to take control of and improve your business&#39\;s online pages\, and learn customer follow-up strategies that can be applied immediately.&nbsp\;</span></span><br />\n&nbsp\;<br />\n<strong><span style="font-family:arial\,sans-serif\;"><span style="font-size:10.0pt\;">Kim Olson&nbsp\;</span></span></strong><span style="font-family:arial\,sans-serif\;"><span style="font-size:10.0pt\;">presents this workshop.&nbsp\; Kim has collaborated with local businesses for over 4 years in her career as an account executive and marketer. She is currently Account Executive at&nbsp\;Broadly.com\, which helps local businesses improve their online presence and grow word-of-mouth. Olson earned aBachelors from the Point Loma Nazarene University in San Diego with a degree in Communications.</span></span></span>
LOCATION:Yorba Linda Public Library (VM Woodward) 18181 Imperial Highway Yorba Linda\, CA 92886
UID:e.887.21259
SEQUENCE:3
DTSTAMP:20260421T213109Z
URL:https://business.nocchamber.com/events/details/score-workshop-get-five-star-reviews-on-google-yelp-and-facebook-21259
END:VEVENT

END:VCALENDAR
