BEGIN:VCALENDAR
VERSION:2.0
PRODID:-//ChamberMaster//Event Calendar 2.0//EN
METHOD:PUBLISH
X-PUBLISHED-TTL:P3D
REFRESH-INTERVAL:P3D
CALSCALE:GREGORIAN
BEGIN:VEVENT
DTSTART:20181116T020000Z
DTEND:20181116T040000Z
X-MICROSOFT-CDO-ALLDAYEVENT:FALSE
SUMMARY:SCORE Workshop - Five-Star Reviews on Google\, Yelp\, and Facebook
DESCRIPTION:SCORE is holding a workshop on how to get five-star reviews:\n\n	Tools to improve business's online pages\n	Customer follow-up strategies\n	Reviews of Google\, Yelp\, and Facebook
X-ALT-DESC;FMTTYPE=text/html:SCORE is holding a workshop on how to get five-star reviews:\n<ul>\n	<li>Tools to improve business&rsquo\;s online pages</li>\n	<li>Customer follow-up strategies</li>\n	<li>Reviews of Google\, Yelp\, and Facebook</li>\n</ul>\n
LOCATION:Newport Beach Public Library (VM Hoff) 1000 Avocado Ave. Newport Beach\, CA 92660
UID:e.887.22842
SEQUENCE:3
DTSTAMP:20260422T125153Z
URL:https://business.nocchamber.com/events/details/score-workshop-five-star-reviews-on-google-yelp-and-facebook-22842
END:VEVENT

END:VCALENDAR
