BEGIN:VCALENDAR
VERSION:2.0
PRODID:-//ChamberMaster//Event Calendar 2.0//EN
METHOD:PUBLISH
X-PUBLISHED-TTL:P3D
REFRESH-INTERVAL:P3D
CALSCALE:GREGORIAN
BEGIN:VEVENT
DTSTART:20180824T010000Z
DTEND:20180824T040000Z
X-MICROSOFT-CDO-ALLDAYEVENT:FALSE
SUMMARY:SCORE Workshop - Elevator Pitch
DESCRIPTION:SCORE will be hosting an "Elevator Pitch" workshop:\n\n	How to grab audience's attention\n	Variety of opening statements\n	How professionals communicate\n	Developing your pitch\n	Developing confidence
X-ALT-DESC;FMTTYPE=text/html:<span style="background:white\;"><span style="color:#333333\;"><span style="font-family:arial\,sans-serif\;"><span style="font-size:10.0pt\;">SCORE will be hosting an <strong>&ldquo\;Elevator Pitch&rdquo\; workshop</strong>:</span></span></span></span>\n<ul>\n	<li><span style="background:white\;"><span style="color:#333333\;"><span style="font-family:arial\,sans-serif\;"><span style="font-size:10.0pt\;">How to grab audience&rsquo\;s attention</span></span></span></span></li>\n	<li><span style="background:white\;"><span style="color:#333333\;"><span style="font-family:arial\,sans-serif\;"><span style="font-size:10.0pt\;">Variety of opening statements</span></span></span></span></li>\n	<li><span style="background:white\;"><span style="color:#333333\;"><span style="font-family:arial\,sans-serif\;"><span style="font-size:10.0pt\;">How professionals communicate</span></span></span></span></li>\n	<li><span style="background:white\;"><span style="color:#333333\;"><span style="font-family:arial\,sans-serif\;"><span style="font-size:10.0pt\;">Developing your pitch</span></span></span></span></li>\n	<li><span style="background:white\;"><span style="color:#333333\;"><span style="font-family:arial\,sans-serif\;"><span style="font-size:10.0pt\;">Developing confidence</span></span></span></span></li>\n</ul>\n
LOCATION:Clifton C. Miller Community Center (VM Curtis) 300 Centennial Way Tustin\, CA 92780
UID:e.887.22631
SEQUENCE:3
DTSTAMP:20260422T090848Z
URL:https://business.nocchamber.com/events/details/score-workshop-elevator-pitch-22631
END:VEVENT

END:VCALENDAR
