BEGIN:VCALENDAR
VERSION:2.0
PRODID:-//ChamberMaster//Event Calendar 2.0//EN
METHOD:PUBLISH
X-PUBLISHED-TTL:P3D
REFRESH-INTERVAL:P3D
CALSCALE:GREGORIAN
BEGIN:VEVENT
DTSTART:20191016T010000Z
DTEND:20191016T030000Z
X-MICROSOFT-CDO-ALLDAYEVENT:FALSE
SUMMARY:SCORE Workshop: Drive New Business with Social Media + Facebook Ads
DESCRIPTION:Social media marketing has changed the marketing game for small businesses. Whether you're new to social media or struggling to make your profiles more engaging\, this session will answer your common questions about the different platforms\, how to build your network\, and what to say and share with your followers.\n\n \n\n  Determine the platform that's right for you and your organization\n\n  Create and share content that encourages action\n\n  Understand social media advertising and learn your options\n\n  How to use Facebook Ads to increase engagement & grow your business \n\n  Convert social media leads into potential customers by growing your email list\n\n  Case Studies/ Small Business Real World Examples
X-ALT-DESC;FMTTYPE=text/html:<div>Social media marketing has changed the marketing game for small businesses. Whether you&rsquo\;re new to social media or struggling to make your profiles more engaging\, this session will answer your common questions about the different platforms\, how to build your network\, and what to say and share with your followers.<br />\n&nbsp\;</div>\n\n<div>&bull\; Determine the platform that&rsquo\;s right for you and your organization</div>\n\n<div>&bull\; Create and share content that encourages action</div>\n\n<div>&bull\; Understand social media advertising and learn your options</div>\n\n<div>&bull\; How to use Facebook Ads to increase engagement &amp\; grow your business&nbsp\;</div>\n\n<div>&bull\; Convert social media leads into potential customers by growing your email list</div>\n\n<div>&bull\; Case Studies/ Small Business Real World Examples&nbsp\;&nbsp\;</div>\n
LOCATION:Newport Beach Public Library 1000 Avocado Avenue Newport Beach\, CA 92660
UID:e.887.23746
SEQUENCE:3
DTSTAMP:20260422T001859Z
URL:https://business.nocchamber.com/events/details/score-workshop-drive-new-business-with-social-media-facebook-ads-23746
END:VEVENT

END:VCALENDAR
