BEGIN:VCALENDAR
VERSION:2.0
PRODID:-//ChamberMaster//Event Calendar 2.0//EN
METHOD:PUBLISH
X-PUBLISHED-TTL:P3D
REFRESH-INTERVAL:P3D
CALSCALE:GREGORIAN
BEGIN:VEVENT
DTSTART:20181219T210000Z
DTEND:20181220T000000Z
X-MICROSOFT-CDO-ALLDAYEVENT:FALSE
SUMMARY:SCORE Workshop - Develop a Winning Business Plan
DESCRIPTION:$35 if you pre-register online\n\nClick here
X-ALT-DESC;FMTTYPE=text/html:$35 if you pre-register online<br />\n<a href="http://events.r20.constantcontact.com/register/regform?oeidk=a07eftewunhdd48b5d3&amp\;c=8b240370-199a-11e6-9a1f-d4ae5292c40b&amp\;ch=8b32a970-199a-11e6-9a1f-d4ae5292c40b">Click here</a>
LOCATION:National University (VM Heard) 3390 Harbor Blvd Costa Mesa\, CA 92626
UID:e.887.22904
SEQUENCE:3
DTSTAMP:20260422T113946Z
URL:https://business.nocchamber.com/events/details/score-workshop-develop-a-winning-business-plan-22904
END:VEVENT

END:VCALENDAR
