BEGIN:VCALENDAR
VERSION:2.0
PRODID:-//ChamberMaster//Event Calendar 2.0//EN
METHOD:PUBLISH
X-PUBLISHED-TTL:P3D
REFRESH-INTERVAL:P3D
CALSCALE:GREGORIAN
BEGIN:VEVENT
DTSTART:20180917T173000Z
DTEND:20180917T203000Z
X-MICROSOFT-CDO-ALLDAYEVENT:FALSE
SUMMARY:SCORE Workshop - Develop A Winning Business Plan
DESCRIPTION:SCORE will be hosting a Develop a Winning Business Plan workshop:\n\n	Forming a business plan\n	Monitoring progress and achieving goals\n	Targeting financial statements
X-ALT-DESC;FMTTYPE=text/html:<span style="background:white\;"><span style="color:#333333\;"><span style="font-family:arial\,sans-serif\;"><span style="font-size:10.0pt\;">SCORE will be hosting a <strong>Develop a Winning Business Plan </strong>workshop:</span></span></span></span>\n<ul>\n	<li><span style="background:white\;"><span style="color:#333333\;"><span style="font-family:arial\,sans-serif\;"><span style="font-size:10.0pt\;">Forming a business plan</span></span></span></span></li>\n	<li><span style="background:white\;"><span style="color:#333333\;"><span style="font-family:arial\,sans-serif\;"><span style="font-size:10.0pt\;">Monitoring progress and achieving goals</span></span></span></span></li>\n	<li><span style="background:white\;"><span style="color:#333333\;"><span style="font-family:arial\,sans-serif\;"><span style="font-size:10.0pt\;">Targeting financial statements</span></span></span></span></li>\n</ul>\n
LOCATION:Webster University (VM Wooten) 32 Discovery\, #250 Irvine\, CA 92618
UID:e.887.22680
SEQUENCE:3
DTSTAMP:20260422T123044Z
URL:https://business.nocchamber.com/events/details/score-workshop-develop-a-winning-business-plan-22680
END:VEVENT

END:VCALENDAR
