BEGIN:VCALENDAR
VERSION:2.0
PRODID:-//ChamberMaster//Event Calendar 2.0//EN
METHOD:PUBLISH
X-PUBLISHED-TTL:P3D
REFRESH-INTERVAL:P3D
CALSCALE:GREGORIAN
BEGIN:VEVENT
DTSTART:20180807T160000Z
DTEND:20180807T200000Z
X-MICROSOFT-CDO-ALLDAYEVENT:FALSE
SUMMARY:SCORE Workshop - Demystifying Financial Statements
DESCRIPTION:This SCORE workshop will be instructing financial impact in businesses: \n\n	How to use basic financial statements and other key measurements \n	How to interpret company's financial signals\n	Understanding basic business terminology\n	How to calculate the most significant ratios\n	Learn to communicate with financers and investors for capital growth
X-ALT-DESC;FMTTYPE=text/html:<span style="background:white\;"><span style="color:#333333\;"><span style="font-family:arial\,sans-serif\;"><span style="font-size:10.0pt\;">This SCORE workshop will be instructing financial impact in businesses:&nbsp\;</span></span></span></span>\n<ul>\n	<li style="color:#333333\;line-height:normal\;"><span style="font-family:arial\,sans-serif\;"><span style="font-size:10.0pt\;">How to use basic financial statements and other key measurements&nbsp\;</span></span></li>\n	<li style="color:#333333\;line-height:normal\;"><span style="font-family:arial\,sans-serif\;"><span style="font-size:10.0pt\;">How to interpret company&#39\;s financial signals</span></span></li>\n	<li style="color:#333333\;line-height:normal\;"><span style="font-family:arial\,sans-serif\;"><span style="font-size:10.0pt\;">Understanding basic business terminology</span></span></li>\n	<li style="color:#333333\;line-height:normal\;"><span style="font-family:arial\,sans-serif\;"><span style="font-size:10.0pt\;">How to calculate the most significant ratios</span></span></li>\n	<li style="color:#333333\;line-height:normal\;"><span style="font-family:arial\,sans-serif\;"><span style="font-size:10.0pt\;">Learn to communicate with financers and investors for capital growth</span></span></li>\n</ul>\n
LOCATION:National University (VM Z. Smith) 3390 Harbor Blvd Costa Mesa\, CA 92626
UID:e.887.22597
SEQUENCE:3
DTSTAMP:20260422T091056Z
URL:https://business.nocchamber.com/events/details/score-workshop-demystifying-financial-statements-08-07-2018-22597
END:VEVENT

END:VCALENDAR
