BEGIN:VCALENDAR
VERSION:2.0
PRODID:-//ChamberMaster//Event Calendar 2.0//EN
METHOD:PUBLISH
X-PUBLISHED-TTL:P3D
REFRESH-INTERVAL:P3D
CALSCALE:GREGORIAN
BEGIN:VEVENT
DTSTART:20181214T020000Z
DTEND:20181214T050000Z
X-MICROSOFT-CDO-ALLDAYEVENT:FALSE
SUMMARY:SCORE Workshop - Creating Dynamic Team Culture for Customer Service
DESCRIPTION:SCORE Workshop   Power of PPC Advertising:\n\n	Attracting the audience to the website\n	Search marketing as a digital tool\n	PPC advertising \n	AdWords in marketing for sales increase
X-ALT-DESC;FMTTYPE=text/html:<span style="background:white\;"><span style="color:#333333\;"><span style="font-family:arial\,sans-serif\;"><span style="font-size:10.0pt\;">SCORE Workshop &ndash\; Power of PPC Advertising:</span></span></span></span>\n<ul>\n	<li><span style="color:#333333\;"><span style="font-family:arial\,sans-serif\;"><span style="font-size:10.0pt\;">Attracting the audience to the website</span></span></span></li>\n	<li><span style="color:#333333\;"><span style="font-family:arial\,sans-serif\;"><span style="font-size:10.0pt\;">Search marketing as a digital tool</span></span></span></li>\n	<li><span style="color:#333333\;"><span style="font-family:arial\,sans-serif\;"><span style="font-size:10.0pt\;">PPC advertising </span></span></span></li>\n	<li><span style="color:#333333\;"><span style="font-family:arial\,sans-serif\;"><span style="font-size:10.0pt\;">AdWords in marketing for sales increase</span></span></span></li>\n</ul>\n
LOCATION:Orange Public Library (VM Greenfield) 407 E Chapman Ave. Orange\, CA 92866
UID:e.887.22881
SEQUENCE:3
DTSTAMP:20260422T114120Z
URL:https://business.nocchamber.com/events/details/score-workshop-creating-dynamic-team-culture-for-customer-service-22881
END:VEVENT

END:VCALENDAR
