BEGIN:VCALENDAR
VERSION:2.0
PRODID:-//ChamberMaster//Event Calendar 2.0//EN
METHOD:PUBLISH
X-PUBLISHED-TTL:P3D
REFRESH-INTERVAL:P3D
CALSCALE:GREGORIAN
BEGIN:VEVENT
DTSTART:20180820T173000Z
DTEND:20180820T203000Z
X-MICROSOFT-CDO-ALLDAYEVENT:FALSE
SUMMARY:SCORE Workshop - Control Your Future: Estate Planning 101 for Small Business Owners
DESCRIPTION:SCORE will be hosting a estate planning workshop for small businesses:\n\n	What estate planning is\n	Who benefits\n	Who involves in the estate planning process\n	Essential component of a basis estate plan\n	Component of a more complex estate planning situation
X-ALT-DESC;FMTTYPE=text/html:<span style="font-size:14px\;">SCORE will be hosting a estate planning workshop for small businesses:</span>\n<ul>\n	<li><span style="font-size:14px\;"><span style="font-family:arial\,sans-serif\;">What estate planning is</span></span></li>\n	<li><span style="font-size:14px\;"><span style="font-family:arial\,sans-serif\;">Who benefits</span></span></li>\n	<li><span style="font-size:14px\;"><span style="font-family:arial\,sans-serif\;">Who involves in the estate planning process</span></span></li>\n	<li><span style="font-size:14px\;"><span style="font-family:arial\,sans-serif\;">Essential component of a basis estate plan</span></span></li>\n	<li><span style="font-size:14px\;"><span style="font-family:arial\,sans-serif\;">Component of a more complex estate planning situation</span></span></li>\n</ul>\n
LOCATION:Webster University (VM Wooten) 32 Discovery\, #250 Irvine\, CA 92618
UID:e.887.22619
SEQUENCE:3
DTSTAMP:20260422T091310Z
URL:https://business.nocchamber.com/events/details/score-workshop-control-your-future-estate-planning-101-for-small-business-owners-22619
END:VEVENT

END:VCALENDAR
