BEGIN:VCALENDAR
VERSION:2.0
PRODID:-//ChamberMaster//Event Calendar 2.0//EN
METHOD:PUBLISH
X-PUBLISHED-TTL:P3D
REFRESH-INTERVAL:P3D
CALSCALE:GREGORIAN
BEGIN:VEVENT
DTSTART:20181221T020000Z
DTEND:20181221T050000Z
X-MICROSOFT-CDO-ALLDAYEVENT:FALSE
SUMMARY:SCORE Workshop - Common Legal Questions For Businesses
DESCRIPTION:SCORE Workshop   Common Legal Questions for Businesses:\n\n	Formalities in businesses\n	Determining the best legal structure\n	Types of common contracts\n	Protecting the intellectual property of small businesses
X-ALT-DESC;FMTTYPE=text/html:<span style="background-image:initial\;background-position:initial\;background-size:initial\;background-repeat:initial\;background-attachment:initial\;background-origin:initial\;background-clip:initial\;"><span style="font-family:arial\,sans-serif\;"><span style="font-size:10pt\;">SCORE Workshop &ndash\; Common Legal Questions for Businesses:</span></span></span>\n<ul>\n	<li><span style="background-image:initial\;background-position:initial\;background-size:initial\;background-repeat:initial\;background-attachment:initial\;background-origin:initial\;background-clip:initial\;"><span style="font-family:arial\,sans-serif\;"><span style="font-size:10pt\;">Formalities in businesses</span></span></span></li>\n	<li><span style="background-image:initial\;background-position:initial\;background-size:initial\;background-repeat:initial\;background-attachment:initial\;background-origin:initial\;background-clip:initial\;"><span style="font-family:arial\,sans-serif\;"><span style="font-size:10pt\;">Determining the best legal structure</span></span></span></li>\n	<li><span style="background-image:initial\;background-position:initial\;background-size:initial\;background-repeat:initial\;background-attachment:initial\;background-origin:initial\;background-clip:initial\;"><span style="font-family:arial\,sans-serif\;"><span style="font-size:10pt\;">Types of common contracts</span></span></span></li>\n	<li><span style="background-image:initial\;background-position:initial\;background-size:initial\;background-repeat:initial\;background-attachment:initial\;background-origin:initial\;background-clip:initial\;"><span style="font-family:arial\,sans-serif\;"><span style="font-size:10pt\;">Protecting the intellectual property of small businesses</span></span></span></li>\n</ul>\n
LOCATION:Fullerton Public Library Main Branch 353 W. Commonwealth Ave. Fullerton\, CA 92832
UID:e.887.22883
SEQUENCE:3
DTSTAMP:20260422T125343Z
URL:https://business.nocchamber.com/events/details/score-workshop-common-legal-questions-for-businesses-22883
END:VEVENT

END:VCALENDAR
