BEGIN:VCALENDAR
VERSION:2.0
PRODID:-//ChamberMaster//Event Calendar 2.0//EN
METHOD:PUBLISH
X-PUBLISHED-TTL:P3D
REFRESH-INTERVAL:P3D
CALSCALE:GREGORIAN
BEGIN:VEVENT
DTSTART:20180904T160000Z
DTEND:20180904T200000Z
X-MICROSOFT-CDO-ALLDAYEVENT:FALSE
SUMMARY:SCORE Workshop - Common Legal Questions For Businesses
DESCRIPTION:SCORE will be hosting Common Legal Questions for Businesses workshop:\n\n	Formalities to initiate a business\n	Best legal structure for businesses\n	Common types of contracts\n	How to enter contracts\n	Protecting the intellectual property of a small business
X-ALT-DESC;FMTTYPE=text/html:<span style="background-image:initial\;background-position:initial\;background-size:initial\;background-repeat:initial\;background-attachment:initial\;background-origin:initial\;background-clip:initial\;"><span style="font-family:arial\,sans-serif\;"><span style="font-size:10pt\;">SCORE will be hosting <strong>Common Legal Questions for Businesses workshop</strong>:</span></span></span>\n<ul>\n	<li><span style="background-image:initial\;background-position:initial\;background-size:initial\;background-repeat:initial\;background-attachment:initial\;background-origin:initial\;background-clip:initial\;"><span style="font-family:arial\,sans-serif\;"><span style="font-size:10pt\;">Formalities to initiate a business</span></span></span></li>\n	<li><span style="background-image:initial\;background-position:initial\;background-size:initial\;background-repeat:initial\;background-attachment:initial\;background-origin:initial\;background-clip:initial\;"><span style="font-family:arial\,sans-serif\;"><span style="font-size:10pt\;">Best legal structure for businesses</span></span></span></li>\n	<li><span style="background-image:initial\;background-position:initial\;background-size:initial\;background-repeat:initial\;background-attachment:initial\;background-origin:initial\;background-clip:initial\;"><span style="font-family:arial\,sans-serif\;"><span style="font-size:10pt\;">Common types of contracts</span></span></span></li>\n	<li><span style="background-image:initial\;background-position:initial\;background-size:initial\;background-repeat:initial\;background-attachment:initial\;background-origin:initial\;background-clip:initial\;"><span style="font-family:arial\,sans-serif\;"><span style="font-size:10pt\;">How to enter contracts</span></span></span></li>\n	<li><span style="background-image:initial\;background-position:initial\;background-size:initial\;background-repeat:initial\;background-attachment:initial\;background-origin:initial\;background-clip:initial\;"><span style="font-family:arial\,sans-serif\;"><span style="font-size:10pt\;"><span style="background-image:initial\;background-position:initial\;background-size:initial\;background-repeat:initial\;background-attachment:initial\;background-origin:initial\;background-clip:initial\;"><span style="font-family:arial\,sans-serif\;"><span style="font-size:10pt\;">Protecting the intellectual property of a small business</span></span></span></span></span></span></li>\n</ul>\n
LOCATION:National University (VM Z .Smith) 3390 Harbor Blvd Costa Mesa\, CA 92626
UID:e.887.22660
SEQUENCE:3
DTSTAMP:20260422T153443Z
URL:https://business.nocchamber.com/events/details/score-workshop-common-legal-questions-for-businesses-22660
END:VEVENT

END:VCALENDAR
