BEGIN:VCALENDAR
VERSION:2.0
PRODID:-//ChamberMaster//Event Calendar 2.0//EN
METHOD:PUBLISH
X-PUBLISHED-TTL:P3D
REFRESH-INTERVAL:P3D
CALSCALE:GREGORIAN
BEGIN:VEVENT
DTSTART:20180413T010000Z
DTEND:20180413T040000Z
X-MICROSOFT-CDO-ALLDAYEVENT:FALSE
SUMMARY:SCORE Workshop - Common Legal Questions For Businesses
DESCRIPTION:Here's your chance to get answers to your business legal questions without paying an arm and a leg.\n\nNew business owners often have questions regarding the formalities required to get their business off the ground.  This seminar assists the small business owner in determining the best legal structure for their business.  In addition\, the seminar addresses the common types of contracts small business owners encounter and provides attendees with tips for entering contracts.  Finally\, the seminar will also touch on protecting the intellectual property of a small business.\n\nMatthew Reynolds of Kring & Chung\, Attorneys LLP presents this workshop. Matt graduated Summa Cum Laude from Youngstown State University and Cum Laude from Pepperdine University.
X-ALT-DESC;FMTTYPE=text/html:<p style="margin: 0px 0px 18px\; padding: 0px\; color: rgb(0\, 0\, 144)\; font-family: Arial\, Helvetica\, sans-serif\; font-size: 12px\;"><span style="color:#000000\;"><span style="font-size: 10pt\;" title="">Here&#39\;s your chance to get answers to your business legal questions without paying an arm and a leg.</span></span></p>\n\n<p style="margin: 0px 0px 18px\; padding: 0px\; color: rgb(0\, 0\, 144)\; font-family: Arial\, Helvetica\, sans-serif\; font-size: 12px\;"><span style="color:#000000\;"><span style="font-size: 10pt\;" title="">New business owners often have questions regarding the formalities required to get their business off the ground.&nbsp\; This seminar assists the small business owner in determining the best legal structure for their business.&nbsp\; In addition\, the seminar addresses the common types of contracts small business owners encounter and provides attendees with tips for entering contracts.&nbsp\; Finally\, the seminar will also touch on protecting the intellectual property of a small business.</span></span></p>\n\n<div style="margin: 0px\; padding: 0px\; color: rgb(0\, 0\, 144)\; font-family: Arial\, Helvetica\, sans-serif\; font-size: 12px\;"><span style="color:#000000\;"><span style="font-family: Arial\, Helvetica\, sans-serif\; font-size: 10pt\;" title=""><strong>Matthew Reynolds of Kring &amp\; Chung\, Attorneys LLP</strong>&nbsp\;presents this workshop. Matt graduated Summa Cum Laude from Youngstown State University and Cum Laude from Pepperdine University.&nbsp\; </span></span></div>\n
LOCATION:Laguana Woods City Hall(VM Reardon) 24264 El Toro Road Laguana Woods\, CA 92637
UID:e.887.21281
SEQUENCE:3
DTSTAMP:20260421T231137Z
URL:https://business.nocchamber.com/events/details/score-workshop-common-legal-questions-for-businesses-21281
END:VEVENT

END:VCALENDAR
