BEGIN:VCALENDAR
VERSION:2.0
PRODID:-//ChamberMaster//Event Calendar 2.0//EN
METHOD:PUBLISH
X-PUBLISHED-TTL:P3D
REFRESH-INTERVAL:P3D
CALSCALE:GREGORIAN
BEGIN:VEVENT
DTSTART:20181221T020000Z
DTEND:20181221T050000Z
X-MICROSOFT-CDO-ALLDAYEVENT:FALSE
SUMMARY:SCORE Workshop - Common Legal Questions for Business
DESCRIPTION:SCORE Workshop on Common Legal Questions for Business:\n\n	Determining the best legal structure for your business\n	Common types of contracts small business owners encounter\n	Tips for entering contracts\n	Protecting the intellectual property of a small business
X-ALT-DESC;FMTTYPE=text/html:SCORE Workshop on Common Legal Questions for Business:\n<ul>\n	<li>Determining the best legal structure for your business</li>\n	<li>Common types of contracts small business owners encounter</li>\n	<li>Tips for entering contracts</li>\n	<li>Protecting the intellectual property of a small business</li>\n</ul>\n
LOCATION:Fullerton Public Library Main Branch (VM Hawkins) 353 W. Commonwealth Ave. Fullerton\, CA 92832
UID:e.887.22906
SEQUENCE:3
DTSTAMP:20260422T125204Z
URL:https://business.nocchamber.com/events/details/score-workshop-common-legal-questions-for-business-22906
END:VEVENT

END:VCALENDAR
