BEGIN:VCALENDAR
VERSION:2.0
PRODID:-//ChamberMaster//Event Calendar 2.0//EN
METHOD:PUBLISH
X-PUBLISHED-TTL:P3D
REFRESH-INTERVAL:P3D
CALSCALE:GREGORIAN
BEGIN:VEVENT
DTSTART:20190530T173000Z
DTEND:20190530T203000Z
X-MICROSOFT-CDO-ALLDAYEVENT:FALSE
SUMMARY:SCORE Workshop Buy/Sell & Valuation of a Business
DESCRIPTION:In this workshop learn how to develop a valuation estimate that is defensible whether you are buying\, selling or starting a business.  You'll learn the pros and cons of franchising as well.  All of this is in "plain English" and based on current valuation concepts. You will be taken through the process using examples of each calculation.  Learn what makes up "value" and the steps required to maximize business valuation.  As a buyer\, you will learn what steps you can take to determine the "right price".\n\n\n\nJim Chamberlain of SCORE presents this workshop.\n\n\n\nRegistration/Check-in at 10:00 a.m. - 10:30 a.m.
X-ALT-DESC;FMTTYPE=text/html:In this workshop learn how to develop a valuation estimate that is defensible whether you are buying\, selling or starting a business.&nbsp\; You&#39\;ll learn the pros and cons of franchising as well.&nbsp\; All of this is in &quot\;plain English&quot\; and based on current valuation concepts. You will be taken through the process using examples of each calculation.&nbsp\; Learn what makes up &quot\;value&quot\; and the steps required to maximize business valuation.&nbsp\; As a buyer\, you will learn what steps you can take to determine the &quot\;right price&quot\;.<br />\n<br />\nJim Chamberlain of SCORE&nbsp\;presents this workshop.<br />\n<br />\nRegistration/Check-in at 10:00 a.m. - 10:30 a.m.
LOCATION:Fullerton Public Library Main Branch (VM Kelly) 353 W. Commonwealth Ave Fullerton\, CA 92832
UID:e.887.23331
SEQUENCE:3
DTSTAMP:20260422T054422Z
URL:https://business.nocchamber.com/events/details/score-workshop-buy-sell-valuation-of-a-business-23331
END:VEVENT

END:VCALENDAR
