BEGIN:VCALENDAR
VERSION:2.0
PRODID:-//ChamberMaster//Event Calendar 2.0//EN
METHOD:PUBLISH
X-PUBLISHED-TTL:P3D
REFRESH-INTERVAL:P3D
CALSCALE:GREGORIAN
BEGIN:VEVENT
DTSTART:20180914T010000Z
DTEND:20180914T040000Z
X-MICROSOFT-CDO-ALLDAYEVENT:FALSE
SUMMARY:SCORE Workshop - Buy/Sell & Valuation of a Business
DESCRIPTION:SCORE will be hosting a Buy/Sell & Valuation of Business workshop:\n\n	How to develop a valuation estimate\n	The pros and cons of franchising\n	Understanding what produces "value"\n	Procedures required to maximize business valuation\n	How to determine the "right price"
X-ALT-DESC;FMTTYPE=text/html:SCORE will be hosting a <strong>Buy/Sell &amp\; Valuation of Business workshop</strong>:\n<ul>\n	<li>How to develop a valuation estimate</li>\n	<li>The pros and cons of franchising</li>\n	<li>Understanding what produces &ldquo\;value&rdquo\;</li>\n	<li>Procedures required to maximize business valuation</li>\n	<li>How to determine the &ldquo\;right price&rdquo\;</li>\n</ul>\n
LOCATION:Fullerton Public Library Main Branch (VM Hawkins) 353 W. Commonwealth Ave Fullerton\, CA 92832
UID:e.887.22675
SEQUENCE:3
DTSTAMP:20260422T110842Z
URL:https://business.nocchamber.com/events/details/score-workshop-buy-sell-valuation-of-a-business-22675
END:VEVENT

END:VCALENDAR
