BEGIN:VCALENDAR
VERSION:2.0
PRODID:-//ChamberMaster//Event Calendar 2.0//EN
METHOD:PUBLISH
X-PUBLISHED-TTL:P3D
REFRESH-INTERVAL:P3D
CALSCALE:GREGORIAN
BEGIN:VEVENT
DTSTART:20181217T183000Z
DTEND:20181217T213000Z
X-MICROSOFT-CDO-ALLDAYEVENT:FALSE
SUMMARY:SCORE Workshop - Building an eCommerce Site on Wordpress
DESCRIPTION:SCORE Workshop on Building an eCommerce Site on WordPress:\n\n	Website design\n	Hosting and security\n	credit card gateways and purchasing process\n	PCI compliance\n	Adding functionality (shipping\, taxes\, subscriptions\, etc.)\n	Search engine optimization strategies\n	Social media and content strategies\n	Analytics and measuring success
X-ALT-DESC;FMTTYPE=text/html:SCORE Workshop on Building an eCommerce Site on WordPress:\n<ul>\n	<li>Website design</li>\n	<li>Hosting and security</li>\n	<li>credit card gateways and purchasing process</li>\n	<li>PCI compliance</li>\n	<li>Adding functionality (shipping\, taxes\, subscriptions\, etc.)</li>\n	<li>Search engine optimization strategies</li>\n	<li>Social media and content strategies</li>\n	<li>Analytics and measuring success</li>\n</ul>\n
LOCATION:Webster University (VM Wooten) 32 Discovery\, #250 Irvine\, CA 92618
UID:e.887.22905
SEQUENCE:3
DTSTAMP:20260422T113958Z
URL:https://business.nocchamber.com/events/details/score-workshop-building-an-ecommerce-site-on-wordpress-22905
END:VEVENT

END:VCALENDAR
