BEGIN:VCALENDAR
VERSION:2.0
PRODID:-//ChamberMaster//Event Calendar 2.0//EN
METHOD:PUBLISH
X-PUBLISHED-TTL:P3D
REFRESH-INTERVAL:P3D
CALSCALE:GREGORIAN
BEGIN:VEVENT
DTSTART:20191018T010000Z
DTEND:20191018T034500Z
X-MICROSOFT-CDO-ALLDAYEVENT:FALSE
SUMMARY:SCORE Workshop: Basics of Accounting - The Language of Business
DESCRIPTION:Accounting is the "language of business". People in the business world - owners\, managers\, bankers\, investors - use accounting terms and concepts to describe the events that make up the "story" of a business. At its most fundamental level\, accounting is the system of tracking the income\, expenses\, assets and liabilities of your business. In this workshop\, you will learn how to make journal entries including debits and credits\, the structure of financial statements\, important financial and performance ratios\, ledgers\, and\, more importantly\, how to "account" for the transactions in your business.
X-ALT-DESC;FMTTYPE=text/html:Accounting is the &quot\;language of business&quot\;. People in the business world - owners\, managers\, bankers\, investors - use accounting terms and concepts to describe the events that make up the &ldquo\;story&rdquo\; of a business. At its most fundamental level\, accounting is the system of tracking the income\, expenses\, assets and liabilities of your business. In this workshop\, you will learn how to make journal entries including debits and credits\, the structure of financial statements\, important financial and performance ratios\, ledgers\, and\, more importantly\, how to &quot\;account&quot\; for the transactions in your business.
LOCATION:Fullerton Public Library Main Branch 353 W. Commonwealth Ave. Fullerton\, CA 92832
UID:e.887.23750
SEQUENCE:3
DTSTAMP:20260421T231233Z
URL:https://business.nocchamber.com/events/details/score-workshop-basics-of-accounting-the-language-of-business-23750
END:VEVENT

END:VCALENDAR
