BEGIN:VCALENDAR
VERSION:2.0
PRODID:-//ChamberMaster//Event Calendar 2.0//EN
METHOD:PUBLISH
X-PUBLISHED-TTL:P3D
REFRESH-INTERVAL:P3D
CALSCALE:GREGORIAN
BEGIN:VEVENT
DTSTART:20181004T010000Z
DTEND:20181004T040000Z
X-MICROSOFT-CDO-ALLDAYEVENT:FALSE
SUMMARY:SCORE Workshop - Basics of Accounting: The Language of Business
DESCRIPTION:SCORE will be hosting an accounting workshop covering:\n\n	Accounting terms\n	System of tracking the income\, expenses\, assets\, and liabilities\n	Journal entries of debits and credits\n	Structure of financial statements\n	Financial performance ratios and ledgers\n	How to "account" for the transactions in the business
X-ALT-DESC;FMTTYPE=text/html:SCORE will be hosting an accounting workshop covering:\n<ul>\n	<li>Accounting terms</li>\n	<li>System of tracking the income\, expenses\, assets\, and liabilities</li>\n	<li>Journal entries of debits and credits</li>\n	<li>Structure of financial statements</li>\n	<li>Financial performance ratios and ledgers</li>\n	<li>How to &ldquo\;account&rdquo\; for the transactions in the business</li>\n</ul>\n
LOCATION:Brea Chamber of Commerce Conference Ctr (VM Rader) 1 Civic Center Circle 2nd Floor Brea\, CA 92821
UID:e.887.22741
SEQUENCE:3
DTSTAMP:20260422T140921Z
URL:https://business.nocchamber.com/events/details/score-workshop-basics-of-accounting-the-language-of-business-22741
END:VEVENT

END:VCALENDAR
