BEGIN:VCALENDAR
VERSION:2.0
PRODID:-//ChamberMaster//Event Calendar 2.0//EN
METHOD:PUBLISH
X-PUBLISHED-TTL:P3D
REFRESH-INTERVAL:P3D
CALSCALE:GREGORIAN
BEGIN:VEVENT
DTSTART:20180823T010000Z
DTEND:20180823T033000Z
X-MICROSOFT-CDO-ALLDAYEVENT:FALSE
SUMMARY:SCORE Workshop - Adapt to Survive: Keeping Up With California Employment Laws
DESCRIPTION:SCORE will be hosting a California employment laws workshop:\n\n	Review the most critical issues and most common areas where small businesses put themselves at risk\n	Review new labor laws and the process of maximizing compliance to reduce the risk of legal action\n	Discuss independent contractors and the rules for classifying an employee as Exempt
X-ALT-DESC;FMTTYPE=text/html:<span style="font-size:14px\;">SCORE will be hosting a California employment laws workshop:</span>\n<ul>\n	<li><span style="font-size:14px\;"><span style="font-family:arial\,sans-serif\;">Review the most critical issues and most common areas where small businesses put themselves at risk</span></span></li>\n	<li><span style="font-size:14px\;"><span style="font-family:arial\,sans-serif\;">Review new labor laws and the process of maximizing compliance to reduce the risk of legal action</span></span></li>\n	<li><span style="font-size:14px\;"><span style="font-family:arial\,sans-serif\;">Discuss independent contractors and the rules for classifying an employee as Exempt</span></span></li>\n</ul>\n
LOCATION:Yorba Linda Public Library 18181 Imperial Highway Yorba Linda\, CA 92886
UID:e.887.22627
SEQUENCE:3
DTSTAMP:20260422T091451Z
URL:https://business.nocchamber.com/events/details/score-workshop-adapt-to-survive-keeping-up-with-california-employment-laws-22627
END:VEVENT

END:VCALENDAR
