BEGIN:VCALENDAR
VERSION:2.0
PRODID:-//ChamberMaster//Event Calendar 2.0//EN
METHOD:PUBLISH
X-PUBLISHED-TTL:P3D
REFRESH-INTERVAL:P3D
CALSCALE:GREGORIAN
BEGIN:VEVENT
DTSTART:20170203T153000Z
DTEND:20170203T183000Z
X-MICROSOFT-CDO-ALLDAYEVENT:FALSE
SUMMARY:SCORE Workshop: 5 Amazing Ways Sharing Your Personal Story Promotes Business Success
DESCRIPTION:If you are a small to medium sized business owner\, you need to attend this breakfast. It's an opportunity to learn how sharing your personal story has a positive ripple effect on your business  :\n\n\n\n              Learn from other successful businesswomen\n\n              Network with other small business owners\n\n              Share ideas\, experience and advice\n\n              Display products and services\n\n              Learn about the services of SCORE\n\n\n\n\n\nPresenter:  Flora Morris Brown\, Ph.D. \n\n\n\nAuthor\, Speaker\, Publishing Coach\, and Guided\n\nAutobiography Facilitator FloraBrown.com\n\nColorYourLifeHappy.com ColorYourLifePublished.com
X-ALT-DESC;FMTTYPE=text/html:<br />\nIf you are a small to medium sized business owner\, you need to attend this breakfast. It&#39\;s an opportunity to learn how&nbsp\;sharing your personal story has a positive ripple effect on your business&nbsp\; :<br />\n<br />\n&bull\;&nbsp\;&nbsp\;&nbsp\;&nbsp\;&nbsp\;&nbsp\;&nbsp\;&nbsp\;&nbsp\;&nbsp\;&nbsp\;&nbsp\; Learn from other successful businesswomen<br />\n&bull\;&nbsp\;&nbsp\;&nbsp\;&nbsp\;&nbsp\;&nbsp\;&nbsp\;&nbsp\;&nbsp\;&nbsp\;&nbsp\;&nbsp\; Network with other small business owners<br />\n&bull\;&nbsp\;&nbsp\;&nbsp\;&nbsp\;&nbsp\;&nbsp\;&nbsp\;&nbsp\;&nbsp\;&nbsp\;&nbsp\;&nbsp\; Share ideas\, experience and advice<br />\n&bull\;&nbsp\;&nbsp\;&nbsp\;&nbsp\;&nbsp\;&nbsp\;&nbsp\;&nbsp\;&nbsp\;&nbsp\;&nbsp\;&nbsp\; Display products and services<br />\n&bull\;&nbsp\;&nbsp\;&nbsp\;&nbsp\;&nbsp\;&nbsp\;&nbsp\;&nbsp\;&nbsp\;&nbsp\;&nbsp\;&nbsp\; Learn about the services of SCORE<br />\n<br />\n<br />\nPresenter: &nbsp\;Flora Morris Brown\, Ph.D.&nbsp\;<br />\n<br />\nAuthor\, Speaker\, Publishing Coach\, and Guided<br />\nAutobiography Facilitator FloraBrown.com<br />\nColorYourLifeHappy.com ColorYourLifePublished.com
LOCATION:The Center Club\, 650 Town Center Drive Costa Mesa\, CA 92626
UID:e.887.15644
SEQUENCE:3
DTSTAMP:20260421T213337Z
URL:https://business.nocchamber.com/events/details/score-workshop-5-amazing-ways-sharing-your-personal-story-promotes-business-success-15644
END:VEVENT

END:VCALENDAR
