BEGIN:VCALENDAR
VERSION:2.0
PRODID:-//ChamberMaster//Event Calendar 2.0//EN
METHOD:PUBLISH
X-PUBLISHED-TTL:P3D
REFRESH-INTERVAL:P3D
CALSCALE:GREGORIAN
BEGIN:VEVENT
DTSTART:20190503T143000Z
DTEND:20190503T173000Z
X-MICROSOFT-CDO-ALLDAYEVENT:FALSE
SUMMARY:SCORE - Women in Business Breakfast Series
DESCRIPTION:This talk is a look at how the "unintended consequences" of CEO/business owners decisions can damage a firm's performance and undermine employee confidence in their leaders. Using real-world stories\, Richard takes his audience on a guided tour of companies who were failed by the leaders' inability to predict and respond to the unexpected outcomes of their strategic decisions.\nWhat you will learn:\n\n  The five (5) causes of unintended consequences and how to identify them\n\n  The three (3) types of unintended consequences\n\n  The unique SECURE  Model\, an innovative 6-step process designed to help control a firm's future\n\n\n\nRegistration / Networking stars at 7:30 a.m.
X-ALT-DESC;FMTTYPE=text/html:This talk is a look at how the &ldquo\;unintended consequences&rdquo\; of CEO/business owners decisions can damage a firm&rsquo\;s performance and undermine employee confidence in their leaders. Using real-world stories\, Richard takes his audience on a guided tour of companies who were failed by the leaders&rsquo\; inability to predict and respond to the unexpected outcomes of their strategic decisions.\n<p>What you will learn:<br />\n&bull\; The five (5) causes of unintended consequences and how to identify them<br />\n&bull\; The three (3) types of unintended consequences<br />\n&bull\; The unique SECURE&trade\; Model\, an innovative 6-step process designed to help control a firm&rsquo\;s future<br />\n<br />\nRegistration / Networking stars at 7:30 a.m.</p>\n
LOCATION:The Center Club 650 Town Center Drive Costa Mesa\, CA 92626
UID:e.887.23128
SEQUENCE:3
DTSTAMP:20260422T054740Z
URL:https://business.nocchamber.com/events/details/score-women-in-business-breakfast-series-23128
END:VEVENT

END:VCALENDAR
