BEGIN:VCALENDAR
VERSION:2.0
PRODID:-//ChamberMaster//Event Calendar 2.0//EN
METHOD:PUBLISH
X-PUBLISHED-TTL:P3D
REFRESH-INTERVAL:P3D
CALSCALE:GREGORIAN
BEGIN:VEVENT
DTSTART:20170505T143000Z
DTEND:20170505T173000Z
X-MICROSOFT-CDO-ALLDAYEVENT:FALSE
SUMMARY:SCORE - Women in Business Breakfast Series
DESCRIPTION:5 Secrets to Bust your Burnout: Moving from Distraction to Action in the Age of Information Overload.\n\nThe event speaker is\, Elisa Magill\, Ph.D.
X-ALT-DESC;FMTTYPE=text/html:5 Secrets to Bust your Burnout: Moving from Distraction to Action in the Age of Information Overload.<br />\nThe event speaker is\, Elisa Magill\, Ph.D.<br />\n&nbsp\;
LOCATION:The Center Club 650 Town Center Drive Costa Mesa\, CA 92626 FREE Valet Parking - Past the ticket office for the OC Performance Art. Only the valet parking is FREE\, all other lots charge for parking
UID:e.887.16126
SEQUENCE:3
DTSTAMP:20260421T045725Z
URL:https://business.nocchamber.com/events/details/score-women-in-business-breakfast-series-05-05-2017-16126
END:VEVENT

END:VCALENDAR
