BEGIN:VCALENDAR
VERSION:2.0
PRODID:-//ChamberMaster//Event Calendar 2.0//EN
METHOD:PUBLISH
X-PUBLISHED-TTL:P3D
REFRESH-INTERVAL:P3D
CALSCALE:GREGORIAN
BEGIN:VEVENT
DTSTART:20190730T010000Z
DTEND:20190730T033000Z
X-MICROSOFT-CDO-ALLDAYEVENT:FALSE
SUMMARY:SCORE What Makes A Great Website Plus Live Website Critiques
DESCRIPTION:The foundation of your digital marketing strategy is your website. Without a great website\, you're building a marketing house on digital sand. Make sure your website attracts\, holds\, and converts new visitors and customers. After this session\, you will never see websites the same again.\n\nWhat you will learn: \n\n* Three things every home page must have to be successful\n\n* Why page load speed is critical\n\n* What is website usability and how can it help my visitors\n\n* How do I prevent my site from being hacked?\n\n* How do I select the best hosting company?\n\n* See & hear live website critiques randomly selected from audience attendees\n\nStuart Atkins is the presenter. He is the owner and founder of Atkins Marketing Solutions\, a digital marketing agency in Orange\, CA.
X-ALT-DESC;FMTTYPE=text/html:<p>The foundation of your digital marketing strategy is your website. Without a great website\, you&#39\;re building a marketing house on digital sand. Make sure your website attracts\, holds\, and converts new visitors and customers. After this session\, you will never see websites the same again.</p>\n\n<p>What you will learn:&nbsp\;</p>\n\n<p>* Three things every home page must have to be successful<br />\n* Why page load speed is critical<br />\n* What is website usability and how can it help my visitors<br />\n* How do I prevent my site from being hacked?<br />\n* How do I select the best hosting company?<br />\n* See &amp\; hear live website critiques randomly selected from audience attendees</p>\n\n<p>Stuart Atkins is the presenter. He is the owner and founder of Atkins Marketing Solutions\, a digital marketing agency in Orange\, CA.</p>\n
LOCATION:Orange Public Library (VM Greenfield) 407 E Chapman Ave Orange\, CA 92866
UID:e.887.23600
SEQUENCE:3
DTSTAMP:20260422T041756Z
URL:https://business.nocchamber.com/events/details/score-what-makes-a-great-website-plus-live-website-critiques-23600
END:VEVENT

END:VCALENDAR
