BEGIN:VCALENDAR
VERSION:2.0
PRODID:-//ChamberMaster//Event Calendar 2.0//EN
METHOD:PUBLISH
X-PUBLISHED-TTL:P3D
REFRESH-INTERVAL:P3D
CALSCALE:GREGORIAN
BEGIN:VEVENT
DTSTART:20180911T170000Z
DTEND:20180911T200000Z
X-MICROSOFT-CDO-ALLDAYEVENT:FALSE
SUMMARY:SCORE Webinar - Win Corporate Clients - 3 Strategies That Will Drive Your B2B Sales
DESCRIPTION:SCORE Webinar will be hosting Win Corporate Clients: 3 Strategies that will Drive Your B2B Sales:\n\n	Creating consistent\, predictable revenue in business\n	Ending the "feast-or-famine" cycle\n	15-month of lucrative prospects\n	Producing higher results out of marketing\n	Communication to produce loyal clients\n	"1-2-3 Rule" of business development
X-ALT-DESC;FMTTYPE=text/html:SCORE Webinar will be hosting <strong>Win Corporate Clients: 3 Strategies that will Drive Your B2B Sales</strong>:\n<ul>\n	<li>Creating consistent\, predictable revenue in business</li>\n	<li>Ending the &ldquo\;feast-or-famine&rdquo\; cycle</li>\n	<li>15-month of lucrative prospects</li>\n	<li>Producing higher results out of marketing</li>\n	<li>Communication to produce loyal clients</li>\n	<li>&ldquo\;1-2-3 Rule&rdquo\; of business development</li>\n</ul>\n
LOCATION:Online Click here to register for webinar
UID:e.887.22663
SEQUENCE:3
DTSTAMP:20260422T143011Z
URL:https://business.nocchamber.com/events/details/score-webinar-win-corporate-clients-3-strategies-that-will-drive-your-b2b-sales-22663
END:VEVENT

END:VCALENDAR
