BEGIN:VCALENDAR
VERSION:2.0
PRODID:-//ChamberMaster//Event Calendar 2.0//EN
METHOD:PUBLISH
X-PUBLISHED-TTL:P3D
REFRESH-INTERVAL:P3D
CALSCALE:GREGORIAN
BEGIN:VEVENT
DTSTART:20200505T200000Z
DTEND:20200505T210000Z
X-MICROSOFT-CDO-ALLDAYEVENT:FALSE
SUMMARY:SCORE - Slam Dunk Your 2nd Quarter Marketing
DESCRIPTION:Attendees of This Webinar will Learn:\n\n\n	Methods of 2nd quarter strategies designed to end the year strong. \n	How to improve your goals & enhance your marketing strategy.   \n	How to set up action based\, targeted promotions & content.  \n	Tips to segment your audience\, use better campaigns & what tools to use (including digital marketing & which social media platforms to use). \n	How to create & send high-impact promotions & connect your marketing dots from email launches to online tools to increase your reach beyond your list.\n	How to measure your results & improve future promotions. \n	2nd quarter opportunities\, national tie-ins\, deadlines & hashtag SM strategy.
X-ALT-DESC;FMTTYPE=text/html:<div>Attendees of This Webinar will Learn:</div>\n\n<ul>\n	<li>Methods of 2nd quarter strategies designed to end the year strong.&nbsp\;</li>\n	<li>How to improve your goals &amp\; enhance your marketing strategy.&nbsp\;&nbsp\;&nbsp\;</li>\n	<li>How to set up action based\, targeted promotions &amp\; content.&nbsp\;&nbsp\;</li>\n	<li>Tips to segment your audience\, use better campaigns &amp\; what tools to use (including digital marketing &amp\; which&nbsp\;social media platforms to use).&nbsp\;</li>\n	<li>How to create &amp\; send high-impact promotions &amp\; connect your marketing dots&nbsp\;from email launches to online tools to increase your reach beyond your list.</li>\n	<li>How to measure your results &amp\; improve future promotions.&nbsp\;</li>\n	<li>2nd quarter opportunities\, national tie-ins\, deadlines &amp\; hashtag SM strategy.</li>\n</ul>\n
LOCATION:Online
UID:e.887.24332
SEQUENCE:3
DTSTAMP:20260421T143601Z
URL:https://business.nocchamber.com/events/details/score-slam-dunk-your-2nd-quarter-marketing-24332
END:VEVENT

END:VCALENDAR
