BEGIN:VCALENDAR
VERSION:2.0
PRODID:-//ChamberMaster//Event Calendar 2.0//EN
METHOD:PUBLISH
X-PUBLISHED-TTL:P3D
REFRESH-INTERVAL:P3D
CALSCALE:GREGORIAN
BEGIN:VEVENT
DTSTART:20190802T143000Z
DTEND:20190802T173000Z
X-MICROSOFT-CDO-ALLDAYEVENT:FALSE
SUMMARY:SCORE's Women in Business Breakfast Series
DESCRIPTION:During this presentation you will learn:\n\n     * Mindsets that limit your wealth \n\n     * Habits that can make or break your finances \n\n     * Financial tips you can Implement today \n\nPresenter\, Lori Friedman has been a leader in the Financial Services Industry for the last 25 years.
X-ALT-DESC;FMTTYPE=text/html:<p>During this presentation you will learn:<br />\n&nbsp\; &nbsp\;&nbsp\; * Mindsets that limit your wealth&hellip\;<br />\n&nbsp\; &nbsp\;&nbsp\; * Habits that can make or break your finances&hellip\;<br />\n&nbsp\; &nbsp\;&nbsp\; * Financial tips you can Implement today&hellip\;</p>\n\n<p>Presenter\, Lori Friedman has been a leader in the Financial Services Industry for the last 25 years.</p>\n
LOCATION:The Center Club 650 Town Center Drive Costa Mesa\, CA 92626
UID:e.887.23439
SEQUENCE:3
DTSTAMP:20260422T015650Z
URL:https://business.nocchamber.com/events/details/score-s-women-in-business-breakfast-series-23439
END:VEVENT

END:VCALENDAR
