BEGIN:VCALENDAR
VERSION:2.0
PRODID:-//ChamberMaster//Event Calendar 2.0//EN
METHOD:PUBLISH
X-PUBLISHED-TTL:P3D
REFRESH-INTERVAL:P3D
CALSCALE:GREGORIAN
BEGIN:VEVENT
DTSTART:20190816T010000Z
DTEND:20190816T034500Z
X-MICROSOFT-CDO-ALLDAYEVENT:FALSE
SUMMARY:SCORE Photography Workshop for Business
DESCRIPTION:Make Your Images Pop. Lights Camera (or phone) Action.\n\n\n\nHow to tips to create better photos for Social Media. This workshop will cover lights\, apps\, flat-lay set-up\, filters and so much more. As a bonus Roni Ramos will be sharing her favorite apps to add an extra sparkle and make your still image move as in a gif. Better photos can mean better engagement with your customers and find new followers for your service or brand. Join in for tips\, apps\, and a hands demo. \n\n\n\nWhat will be covered:\n\n\n\n* Basic lighting indoors and out\n\n* Still life tips\n\n* How to make your images really pop or Filters are amazing...\n\n* Apps to add that extra sparkle from make-up to fireworks!\n\n* How to re-purpose those photos from social media to email\n\n* Hands on photography demo lighting and composition tips!\n\n\n\nRoni Ramos from Harmony 3 Productions is the presenter of this workshop. \n\n\n\nAttendees rave about her presentations where she shares tips\, tools\, techniques and actionable steps to use graphics and video to polish your online marketing... \n\n\n\nRoni is a great cheerleader to get small business excited about using the new technologies available to market their business.
X-ALT-DESC;FMTTYPE=text/html:<div>\n<p>Make Your Images Pop.&nbsp\;Lights Camera (or phone) Action.</p>\n</div>\n\n<div>\n<p>How to tips to create better photos for Social Media.&nbsp\;This workshop will cover lights\, apps\, flat-lay set-up\, filters and so much more.&nbsp\;As a bonus Roni Ramos&nbsp\;will be sharing her&nbsp\;favorite apps to add an extra sparkle and make your still image move as in a gif.&nbsp\;Better photos can mean better engagement with your customers and&nbsp\;find new followers for your service or brand. Join in&nbsp\;for tips\, apps\, and a hands demo.&nbsp\;</p>\n</div>\n\n<div>\n<p>What will be covered:</p>\n</div>\n\n<div>\n<p>* Basic lighting indoors and out<br />\n* Still life tips<br />\n* How to make your images really pop or Filters are amazing...<br />\n* Apps to add that extra sparkle from make-up to fireworks!<br />\n* How to re-purpose those photos from social media to email<br />\n* Hands on photography demo lighting and composition tips!</p>\n</div>\n\n<div>\n<p>Roni Ramos from Harmony 3 Productions&nbsp\;is the presenter of this workshop.&nbsp\;</p>\n</div>\n\n<div>\n<p>Attendees rave about her presentations where she shares tips\, tools\, techniques and actionable steps to use graphics and video to polish your online marketing...&nbsp\;</p>\n</div>\n\n<div>\n<p>Roni is a great cheerleader to get small business excited about using the new technologies available to market their business.</p>\n</div>\n
LOCATION:La Palma Community Center (VM Curiel) 7821 Walker Street La Palma\, CA 90623
UID:e.887.23668
SEQUENCE:3
DTSTAMP:20260422T015410Z
URL:https://business.nocchamber.com/events/details/score-photography-workshop-for-business-23668
END:VEVENT

END:VCALENDAR
