BEGIN:VCALENDAR
VERSION:2.0
PRODID:-//ChamberMaster//Event Calendar 2.0//EN
METHOD:PUBLISH
X-PUBLISHED-TTL:P3D
REFRESH-INTERVAL:P3D
CALSCALE:GREGORIAN
BEGIN:VEVENT
DTSTART:20200617T170000Z
DTEND:20200617T180000Z
X-MICROSOFT-CDO-ALLDAYEVENT:FALSE
SUMMARY:SCORE - Measuring Your Website Success With Google Analytics Webinar
DESCRIPTION:You will learn basic navigation as well as how to measure key performance indicators (KPIs) like those below and more. Bring your laptops and logins to dig in. You will get instructions on how to set up a Dashboard in your GA account and learn how to import existing reports from the Google Solutions Gallery. You will leave this workshop with a better understanding of your website and with proven steps on how to measure your website success going forward. Other topics covered will include the following:\n\n \n\n  Who is staying on your website or bouncing off\n\n  What pages are visitors spending time on\n\n  When it's time review underperforming content or update your website design\n\n  Where is your traffic is coming from\n\n  Why is Mobile traffic performing differently than Desktop\n\n  How well is your blog content converting visitors into engaged prospects
X-ALT-DESC;FMTTYPE=text/html:<div style="margin: 0px\; padding: 0px\; font-family: Arial\, Helvetica\, sans-serif\; font-size: 16px\;"><span style="font-size:12px\;"><span title="">You will learn basic navigation as well as how to measure key performance indicators (KPIs) like those below and more. Bring your laptops and logins to dig in. You will get instructions on how to set up a Dashboard in your GA account and learn how to import existing reports from the Google Solutions Gallery. You will leave this workshop with a better understanding of your website and with proven steps on how to measure your website success going forward. Other topics covered will include the following:</span></span></div>\n\n<div style="margin: 0px\; padding: 0px\; font-family: Arial\, Helvetica\, sans-serif\; font-size: 16px\;">&nbsp\;</div>\n\n<div style="margin: 0px\; padding: 0px\; font-family: Arial\, Helvetica\, sans-serif\; font-size: 16px\;"><span style="font-size:12px\;"><span title="">&bull\; Who is staying on your website or bouncing off</span></span></div>\n\n<div style="margin: 0px\; padding: 0px\; font-family: Arial\, Helvetica\, sans-serif\; font-size: 16px\;"><span style="font-size:12px\;"><span title="">&bull\; What pages are visitors spending time on</span></span></div>\n\n<div style="margin: 0px\; padding: 0px\; font-family: Arial\, Helvetica\, sans-serif\; font-size: 16px\;"><span style="font-size:12px\;"><span title="">&bull\; When it&rsquo\;s time review underperforming content or update your website design</span></span></div>\n\n<div style="margin: 0px\; padding: 0px\; font-family: Arial\, Helvetica\, sans-serif\; font-size: 16px\;"><span style="font-size:12px\;"><span title="">&bull\; Where is your traffic is coming from</span></span></div>\n\n<div style="margin: 0px\; padding: 0px\; font-family: Arial\, Helvetica\, sans-serif\; font-size: 16px\;"><span style="font-size:12px\;"><span title="">&bull\; Why is Mobile traffic performing differently than Desktop</span></span></div>\n\n<div style="margin: 0px\; padding: 0px\; font-family: Arial\, Helvetica\, sans-serif\; font-size: 16px\;"><span style="font-size:12px\;"><span title="">&bull\; How well is your blog content converting visitors into engaged prospects</span></span></div>\n\n<div style="margin: 0px\; padding: 0px\; font-family: Arial\, Helvetica\, sans-serif\; font-size: 16px\;">&nbsp\;</div>\n
LOCATION:Online webinar.
UID:e.887.24402
SEQUENCE:3
DTSTAMP:20260421T131343Z
URL:https://business.nocchamber.com/events/details/score-measuring-your-website-success-with-google-analytics-webinar-24402
END:VEVENT

END:VCALENDAR
