BEGIN:VCALENDAR
VERSION:2.0
PRODID:-//ChamberMaster//Event Calendar 2.0//EN
METHOD:PUBLISH
X-PUBLISHED-TTL:P3D
REFRESH-INTERVAL:P3D
CALSCALE:GREGORIAN
BEGIN:VEVENT
DTSTART:20190110T180000Z
DTEND:20190110T193000Z
X-MICROSOFT-CDO-ALLDAYEVENT:FALSE
SUMMARY:SCORE LIVE Webinars - Maximizing After-Tax Profits on 2018 Return
DESCRIPTION:SCORE LIVE Webinar - Create Your Business Plan: \n\n	New on 2018 Return\n	Tax elections for favorable impact on return\n	Lowering tax bill\n	Q&A session
X-ALT-DESC;FMTTYPE=text/html:SCORE LIVE Webinar - Create Your Business Plan:&nbsp\;\n<ul>\n	<li>New on 2018 Return</li>\n	<li>Tax elections for favorable impact on return</li>\n	<li>Lowering tax bill</li>\n	<li>Q&amp\;A session&nbsp\;</li>\n</ul>\n
LOCATION:Online
UID:e.887.22930
SEQUENCE:3
DTSTAMP:20260422T114236Z
URL:https://business.nocchamber.com/events/details/score-live-webinars-maximizing-after-tax-profits-on-2018-return-22930
END:VEVENT

END:VCALENDAR
