BEGIN:VCALENDAR
VERSION:2.0
PRODID:-//ChamberMaster//Event Calendar 2.0//EN
METHOD:PUBLISH
X-PUBLISHED-TTL:P3D
REFRESH-INTERVAL:P3D
CALSCALE:GREGORIAN
BEGIN:VEVENT
DTSTART:20200616T163000Z
DTEND:20200616T173000Z
X-MICROSOFT-CDO-ALLDAYEVENT:FALSE
SUMMARY:SCORE - Live Stream Conversations That Connect During Chaos
DESCRIPTION:Participants will learn how to leverage video apps and social live stream tools' best features\, show up as relevant and topical to your audience\, how to connect with your clients even in a virtual world and virtually remove the screen so you feel face-to-face and collect leads to fill your marketing/sales funnels all by sharing your story.
X-ALT-DESC;FMTTYPE=text/html:Participants will learn how to leverage video apps and social live stream tools&#39\; best features\, show up as relevant and topical to your audience\, how to connect with your clients even in a virtual world and virtually remove the screen so you feel face-to-face and collect leads to fill your marketing/sales funnels all by sharing your story.
LOCATION:Online
UID:e.887.24403
SEQUENCE:3
DTSTAMP:20260421T131349Z
URL:https://business.nocchamber.com/events/details/score-live-stream-conversations-that-connect-during-chaos-24403
END:VEVENT

END:VCALENDAR
