BEGIN:VCALENDAR
VERSION:2.0
PRODID:-//ChamberMaster//Event Calendar 2.0//EN
METHOD:PUBLISH
X-PUBLISHED-TTL:P3D
REFRESH-INTERVAL:P3D
CALSCALE:GREGORIAN
BEGIN:VEVENT
DTSTART:20200616T150000Z
DTEND:20200616T160000Z
X-MICROSOFT-CDO-ALLDAYEVENT:FALSE
SUMMARY:SCORE - How Female Founders Can Innovate and Disrupt the World of Business
DESCRIPTION:The world of business is wide open to everyone who has an internet connection and the bravado to take it on.\n\n\n\nIn this webinar\, four exceptional women entrepreneurs Laurel Delaney\, Betsy Mikesell\, Angie White and Dr. Sonat Birnecker Hart will provide insights for women who want to innovate and disrupt the world of business   to grow faster\, stronger\, and soar globally for a better tomorrow.\n\n\n\nJoin this webinar to learn:\n\n\n	\n	How to pivot a business in a crisis\n	\n	\n	Why women rule in the global marketplace\n	\n	\n	How to follow your passion and turn a family business into a global powerhouse\n	\n	\n	What a Kickstarter campaign can do and why is it important to consider\n	\n	\n	Who might be your next best partner in business\n	\n	\n	How setting up an ecommerce platform can take a business global\n	\n	\n	Why good design makes a strong first impression and establishing patents safeguards your invention
X-ALT-DESC;FMTTYPE=text/html:<p><span style="font-size:12px\;"><span style="font-family:arial\;">The world of business is wide open to everyone who has an internet connection and the bravado to take it on.<br />\n<br />\nIn this webinar\, four exceptional women entrepreneurs Laurel Delaney\, Betsy Mikesell\, Angie White and Dr. Sonat Birnecker Hart will provide insights for women who want to innovate and disrupt the world of business &ndash\; to grow faster\, stronger\, and soar globally for a better tomorrow.<br />\n<br />\nJoin this webinar to learn:</span></span></p>\n\n<ul>\n	<li>\n	<p><span style="font-size:12px\;"><span style="font-family:arial\;">How to pivot a business in a crisis</span></span></p>\n	</li>\n	<li>\n	<p><span style="font-size:12px\;"><span style="font-family:arial\;">Why women rule in the global marketplace</span></span></p>\n	</li>\n	<li>\n	<p><span style="font-size:12px\;"><span style="font-family:arial\;">How to follow your passion and turn a family business into a global powerhouse</span></span></p>\n	</li>\n	<li>\n	<p><span style="font-size:12px\;"><span style="font-family:arial\;">What a Kickstarter campaign can do and why is it important to consider</span></span></p>\n	</li>\n	<li>\n	<p><span style="font-size:12px\;"><span style="font-family:arial\;">Who might be your next best partner in business</span></span></p>\n	</li>\n	<li>\n	<p><span style="font-size:12px\;"><span style="font-family:arial\;">How setting up an ecommerce platform can take a business global</span></span></p>\n	</li>\n	<li>\n	<p><span style="font-size:12px\;"><span style="font-family:arial\;">Why good design makes a strong first impression and establishing patents safeguards your invention</span></span></p>\n	</li>\n</ul>\n
LOCATION:Online
UID:e.887.24404
SEQUENCE:3
DTSTAMP:20260421T144439Z
URL:https://business.nocchamber.com/events/details/score-how-female-founders-can-innovate-and-disrupt-the-world-of-business-24404
END:VEVENT

END:VCALENDAR
