BEGIN:VCALENDAR
VERSION:2.0
PRODID:-//ChamberMaster//Event Calendar 2.0//EN
METHOD:PUBLISH
X-PUBLISHED-TTL:P3D
REFRESH-INTERVAL:P3D
CALSCALE:GREGORIAN
BEGIN:VEVENT
DTSTART:20190828T010000Z
DTEND:20190828T034500Z
X-MICROSOFT-CDO-ALLDAYEVENT:FALSE
SUMMARY:SCORE - Hiring Made Easy
DESCRIPTION:In this SCORE workshop\, the following topics will be covered:\n* List of Probing Questions\n\n* Finding The Right Applicant\n\n* Interview Red Flags\n\n* Creating a Job Description & Your Ad\n\n* Legal Issues in Interviewing\n\n* How To Motivate Your Employees\n\n\n\nBarry Mc Kinley of SCORE has started\, owned & operated 10 different companies in five different industries. He sold each of the companies to investors\, employees and competitors including Fortune 1000 companies. With his vast experience he has been involved in all segments of business\, from hiring\, financing to sales and promotions\, and has counseled over 2\,100 SCORE clients.\n\n(Registration/Check-in 5:30 to 6:00 PM)\n\n\n\nWalk-ins please bring a business card
X-ALT-DESC;FMTTYPE=text/html:In this SCORE workshop\, the following topics will be covered:\n<p>* List of Probing Questions<br />\n* Finding The Right Applicant<br />\n* Interview Red Flags<br />\n* Creating a Job Description &amp\; Your Ad<br />\n* Legal Issues in Interviewing<br />\n* How To Motivate Your Employees<br />\n<br />\nBarry Mc Kinley of SCORE&nbsp\;has started\, owned &amp\; operated 10 different companies in five&nbsp\;different industries. He sold each of the companies to investors\, employees and competitors including Fortune 1000 companies. With his vast experience he has been involved in all segments of business\, from hiring\, financing to sales and promotions\, and has counseled over 2\,100 SCORE clients.</p>\n\n<p>(Registration/Check-in 5:30 to 6:00 PM)<br />\n<br />\nWalk-ins please bring a&nbsp\;business card</p>\n
LOCATION:Garden Grove Community Ctr (VM Z. Smith) 11300 Stanford Ave\, Room B Garden Grove\, CA 92840
UID:e.887.23680
SEQUENCE:3
DTSTAMP:20260422T015125Z
URL:https://business.nocchamber.com/events/details/score-hiring-made-easy-23680
END:VEVENT

END:VCALENDAR
