BEGIN:VCALENDAR
VERSION:2.0
PRODID:-//ChamberMaster//Event Calendar 2.0//EN
METHOD:PUBLISH
X-PUBLISHED-TTL:P3D
REFRESH-INTERVAL:P3D
CALSCALE:GREGORIAN
BEGIN:VEVENT
DTSTART:20190823T010000Z
DTEND:20190823T033000Z
X-MICROSOFT-CDO-ALLDAYEVENT:FALSE
SUMMARY:SCORE - Does Your Brand Need a "Health" Check-Up?
DESCRIPTION:In this presentation and workshop\, Angelo Ponzi will provide guidance and tools to help you keep your brand growing strong\, competitively and healthy\, year-over-year.\n\n\n\nWith 25+ years of experience\, Angelo Ponzi is a marketing and branding strategist who works with small to middle market companies as their fractional Chief Marketing Officer in defining market opportunities\, developing competitive profiles\, audience personas\, brand realignment and strategies\, to strategic\, integrated marketing plans that help businesses compete in an ever-changing marketplace.  \n\n\n\nThrough his company The Ponzi Group\, he focuses on three strategic pillars for success: Insights\, Brand and Plan to develop effective and efficient programs for building enduring brands and sustainable business growth.\n\n\n\nHis senior level expertise includes developing and directing comprehensive market/product research\, branding and communications plans for a variety of business-to-business\, consumer\, medical\, package goods\, general retail\, fast food\, financial and high-tech clients. \n\n\n\nHe has led both small and large teams at global\, national\, regional and start-up companies\, as well as worked with products in all stages of their lifecycle\, from inception to implementation.\n\n\n\nAngelo has taught Marketing\, Research and Communications at UC Irvine Extension and has been a featured guest speaker at the American Marketing Association\, Marketing Research Association\, South County PR Association\, International Association of Business Communicators\, as well as the Action Sports Retailer Trade Show and Magic. He has also been a frequent contributor of feature articles to industry publications including MRA's Alert! Magazine\, BMA Buzz\, and Quirk's.\n\n\n\n(Registration/Check-in 5:30 to 6:00 PM)
X-ALT-DESC;FMTTYPE=text/html:<div>\n<p>In this presentation and workshop\, Angelo Ponzi will provide guidance and tools to help you keep your brand growing strong\, competitively and healthy\, year-over-year.<br />\n<br />\nWith 25+ years of experience\, Angelo Ponzi is a marketing and branding strategist who works with small to middle market companies as their fractional Chief Marketing Officer in defining market opportunities\, developing competitive profiles\, audience personas\, brand realignment and strategies\, to strategic\, integrated marketing plans that help businesses compete in an ever-changing marketplace.&nbsp\;&nbsp\;</p>\n</div>\n\n<div>\n<p>Through his company The Ponzi Group\, he focuses on three strategic pillars for success: Insights\, Brand and Plan to develop effective and efficient programs for building enduring brands and sustainable business growth.</p>\n</div>\n\n<div>\n<p>His senior level expertise includes developing and directing comprehensive market/product research\, branding and communications plans for a variety of business-to-business\, consumer\, medical\, package goods\, general retail\, fast food\, financial and high-tech clients.&nbsp\;</p>\n</div>\n\n<div>\n<p>He has led both small and large teams at global\, national\, regional and start-up companies\, as well as worked with products in all stages of their lifecycle\, from inception to implementation.</p>\n</div>\n\n<div>\n<p>Angelo has taught Marketing\, Research and Communications at UC Irvine Extension and has been a featured guest speaker at the American Marketing Association\, Marketing Research Association\, South County PR Association\, International Association of Business Communicators\, as well as the Action Sports Retailer Trade Show and Magic. He has also been a frequent contributor of feature articles to industry publications including MRA&#39\;s Alert! Magazine\, BMA Buzz\, and Quirk&#39\;s.</p>\n</div>\n\n<div>\n<p>(Registration/Check-in 5:30 to 6:00 PM)</p>\n</div>\n
LOCATION:Yorba Linda Public Library (VM Woodard) 18181 Imperial Highway Yorba Linda\, CA 92886
UID:e.887.23679
SEQUENCE:3
DTSTAMP:20260422T015446Z
URL:https://business.nocchamber.com/events/details/score-does-your-brand-need-a-health-check-up-23679
END:VEVENT

END:VCALENDAR
