BEGIN:VCALENDAR
VERSION:2.0
PRODID:-//ChamberMaster//Event Calendar 2.0//EN
METHOD:PUBLISH
X-PUBLISHED-TTL:P3D
REFRESH-INTERVAL:P3D
CALSCALE:GREGORIAN
BEGIN:VEVENT
DTSTART;VALUE=DATE:20191017
DTEND;VALUE=DATE:20191018
TRANSP:TRANSPARENT
X-MICROSOFT-CDO-ALLDAYEVENT:TRUE
SUMMARY:SCORE - 7th Annual Women Business Owners Conference
DESCRIPTION:SCORE is hosting its 7th Annual Women Business Owners Conference on October 17 at The Great Wolf Lodge. This interactive women's conference is designed for the savvy entrepreneur. Learn actionable skills and network with other women business owners.\n\n\n\nThe featured speaker is Giselle Chapman. Other speakers include Victoria Byrne and Mandi Morgan.
X-ALT-DESC;FMTTYPE=text/html:SCORE is hosting its 7th Annual Women Business Owners Conference on October 17 at The Great Wolf Lodge. This interactive women&#39\;s conference is designed for the savvy entrepreneur. Learn actionable skills and network with other women business owners.<br />\n<br />\nThe featured speaker is Giselle Chapman. Other speakers include Victoria Byrne and Mandi Morgan.
LOCATION:The Great Wolf Lodge 12681 Harbor Blvd. Garden Grove\, CA 92840
UID:e.887.23696
SEQUENCE:3
DTSTAMP:20260421T231138Z
URL:https://business.nocchamber.com/events/details/score-7th-annual-women-business-owners-conference-23696
END:VEVENT

END:VCALENDAR
