BEGIN:VCALENDAR
VERSION:2.0
PRODID:-//ChamberMaster//Event Calendar 2.0//EN
METHOD:PUBLISH
X-PUBLISHED-TTL:P3D
REFRESH-INTERVAL:P3D
CALSCALE:GREGORIAN
BEGIN:VEVENT
DTSTART:20180830T183000Z
DTEND:20180830T210000Z
X-MICROSOFT-CDO-ALLDAYEVENT:FALSE
SUMMARY:SCAQMD & City of Buena Park - Technology and Air Quality Improvements
DESCRIPTION:The South Coast Air Quality Management District and the City of Buena Park will be hosting a Lunch & Learn Workshop to discuss the impact technology has in improving air quality. Guests from SCAQMD will present on air pollution\, electirc vehicles\, and incentive programs.  Complimentary lunch will be provided. Registration is required for this free event.\n\nMenu will include vegetarian options.\n\nSpanish translation will be available.
X-ALT-DESC;FMTTYPE=text/html:The South Coast Air Quality Management District and the City of Buena Park will be hosting a <strong>Lunch &amp\; Learn Workshop</strong> to discuss the impact technology has in improving air quality. Guests from SCAQMD will present on air pollution\, electirc vehicles\, and incentive programs.&nbsp\; Complimentary lunch will be provided. <a href="https://www.eventbrite.com/e/scaqmd-orange-county-lunch-and-learn-how-electric-vehicles-can-help-clean-our-air-improve-public-tickets-48965659606">Registration is required for this free event.</a><br />\n<em>Menu will include vegetarian options.<br />\nSpanish translation will be available.</em>
LOCATION:Buena Park Community Center 6688 Buena Park Blvd. Buena Park\, CA 90621
UID:e.887.22634
SEQUENCE:3
DTSTAMP:20260422T091939Z
URL:https://business.nocchamber.com/events/details/scaqmd-city-of-buena-park-technology-and-air-quality-improvements-22634
END:VEVENT

END:VCALENDAR
