BEGIN:VCALENDAR
VERSION:2.0
PRODID:-//ChamberMaster//Event Calendar 2.0//EN
METHOD:PUBLISH
X-PUBLISHED-TTL:P3D
REFRESH-INTERVAL:P3D
CALSCALE:GREGORIAN
BEGIN:VEVENT
DTSTART:20180823T013000Z
DTEND:20180823T033000Z
X-MICROSOFT-CDO-ALLDAYEVENT:FALSE
SUMMARY:SBDC Workshop - Get Found on Google Search and Maps
DESCRIPTION:Get Found on Google Search and Maps - A Google Partner Event\n\nExplore Google My Business\, a free tool for local businesses who want to connect with customers on Google Search and Maps. \n\n\n\nIn this session includes:\n\n	Create or claim your Google My Business listing\n	Manage your business info across Google Search and Maps\n	Use Google My Business to connect with potential customers\n	Create a free website using the info from your business listing
X-ALT-DESC;FMTTYPE=text/html:<span style="font-size:14px\;"><span style="font-family:arial\;">Get Found on Google Search and Maps - A Google Partner Event<br />\nExplore Google My Business\, a free tool for local businesses who want to connect with customers on Google Search and Maps.&nbsp\;<br style="color: rgb(0\, 0\, 0)\; font-family: Lato\, Arial\, Helvetica\, sans-serif\; font-size: 16px\;" />\n<br style="color: rgb(0\, 0\, 0)\; font-family: Lato\, Arial\, Helvetica\, sans-serif\; font-size: 16px\;" />\nIn this session includes:</span></span>\n<ul style="margin-top: 3px\; color: rgb(0\, 0\, 0)\; font-family: Lato\, Arial\, Helvetica\, sans-serif\; font-size: 16px\;">\n	<li style="margin-top: 0px\; margin-left: 0px\; line-height: 25.6px\;"><span style="font-size:14px\;"><span style="font-family:arial\;">Create or claim your Google My Business listing</span></span></li>\n	<li style="margin-top: 0px\; margin-left: 0px\; line-height: 25.6px\;"><span style="font-size:14px\;"><span style="font-family:arial\;">Manage your business info across Google Search and Maps</span></span></li>\n	<li style="margin-top: 0px\; margin-left: 0px\; line-height: 25.6px\;"><span style="font-size:14px\;"><span style="font-family:arial\;">Use Google My Business to connect with potential customers</span></span></li>\n	<li style="margin-top: 0px\; margin-left: 0px\; line-height: 25.6px\;"><span style="font-size:14px\;"><span style="font-family:arial\;">Create a free website using the info from your business listing</span></span></li>\n</ul>\n
LOCATION:2323 N Broadway\, Room 107 Santa Ana\, CA 92706-1606
UID:e.887.22620
SEQUENCE:3
DTSTAMP:20260422T090458Z
URL:https://business.nocchamber.com/events/details/sbdc-workshop-get-found-on-google-search-and-maps-22620
END:VEVENT

END:VCALENDAR
