BEGIN:VCALENDAR
VERSION:2.0
PRODID:-//ChamberMaster//Event Calendar 2.0//EN
METHOD:PUBLISH
X-PUBLISHED-TTL:P3D
REFRESH-INTERVAL:P3D
CALSCALE:GREGORIAN
BEGIN:VEVENT
DTSTART:20200616T220000Z
DTEND:20200616T230000Z
X-MICROSOFT-CDO-ALLDAYEVENT:FALSE
SUMMARY:SBDC - Website Lead Generation Webinar
DESCRIPTION:Website lead generation to increase sales.\n\nThis would entail:\n\n	Definition of a Call to Action\n	Webform basics\n	How to integrate webforms to an email database or CRM\n	Creating content prospects want to download\n	Driving traffic to your website
X-ALT-DESC;FMTTYPE=text/html:<br />\n<span style="font-size:12px\;"><span style="font-family:arial\;">Website lead generation to increase sales.<br />\nThis would entail:</span></span>\n<ul>\n	<li><span style="font-size:12px\;"><span style="font-family:arial\;">Definition of a Call to Action</span></span></li>\n	<li><span style="font-size:12px\;"><span style="font-family:arial\;">Webform basics</span></span></li>\n	<li><span style="font-size:12px\;"><span style="font-family:arial\;">How to integrate webforms to an email database or CRM</span></span></li>\n	<li><span style="font-size:12px\;"><span style="font-family:arial\;">Creating content prospects want to download</span></span></li>\n	<li><span style="font-size:12px\;"><span style="font-family:arial\;">Driving traffic to your website</span></span></li>\n</ul>\n
LOCATION:Online
UID:e.887.24406
SEQUENCE:3
DTSTAMP:20260421T131155Z
URL:https://business.nocchamber.com/events/details/sbdc-website-lead-generation-webinar-24406
END:VEVENT

END:VCALENDAR
