BEGIN:VCALENDAR
VERSION:2.0
PRODID:-//ChamberMaster//Event Calendar 2.0//EN
METHOD:PUBLISH
X-PUBLISHED-TTL:P3D
REFRESH-INTERVAL:P3D
CALSCALE:GREGORIAN
BEGIN:VEVENT
DTSTART:20200616T210000Z
DTEND:20200616T220000Z
X-MICROSOFT-CDO-ALLDAYEVENT:FALSE
SUMMARY:SBDC Webinar: Understanding Your Financials
DESCRIPTION:This webinar will offer a basic overview of accounting and finance principles for small business\, providing the framework to make timelier and accurate business decisions. Webinar will be presented by an SBDC Business Consultant and will cover topics such as Financial Statements\, Ratio Analysis\, Horizontal and Vertical Analysis\, and Cash Flow Management.
X-ALT-DESC;FMTTYPE=text/html:This webinar will offer a basic overview of accounting and finance principles for small business\, providing the framework to make timelier and accurate business decisions. Webinar will be presented by an SBDC Business Consultant and will cover topics such as Financial Statements\, Ratio Analysis\, Horizontal and Vertical Analysis\, and Cash Flow Management.
LOCATION:Online
UID:e.887.24405
SEQUENCE:3
DTSTAMP:20260421T131349Z
URL:https://business.nocchamber.com/events/details/sbdc-webinar-understanding-your-financials-24405
END:VEVENT

END:VCALENDAR
