BEGIN:VCALENDAR
VERSION:2.0
PRODID:-//ChamberMaster//Event Calendar 2.0//EN
METHOD:PUBLISH
X-PUBLISHED-TTL:P3D
REFRESH-INTERVAL:P3D
CALSCALE:GREGORIAN
BEGIN:VEVENT
DTSTART:20200507T170000Z
DTEND:20200507T173000Z
X-MICROSOFT-CDO-ALLDAYEVENT:FALSE
SUMMARY:SBDC - Webinar Registration for OC Small Business Grant Opportunity
DESCRIPTION:The CSUF SBDC is teaming up with LISC LA and Wells Fargo for their LISC OC Small Business Relief Program to offer grants to micro-businesses in Orange County.\n\n\n\nThanks to support from Wells Fargo\, LISC LA is providing 15 $5\,000 grants to small businesses affected by the COVID-19 Crisis. The SBDC will be hosting a webinar on May 7th\, 10:00 am - 10:30 am to provide businesses with more information on the grant application and eligibility requirements.\n\n\n\nThe application will open from May 8\, 2020 at 9:00 am PST and close May 9\, 2020 at 9:00 am PST. You can preview the application questions here.\n\nEligibility\n\n\n	Micro-businesses and enterprises affected by Covid-19 in Orange County\, especially those in underserved communities\, including entrepreneurs of color\, women- and veteran-owned businesses that often lack access to flexible\, affordable capital.\n	Businesses must have at least 2 employees and a maximum of 5 Full-Time Employees or 10 Part-Time Employees.\n	Applications will be reviewed based on criteria designed to prioritize particularly challenged businesses\, and the final grantees will be randomly selected from the top-scoring applicants.\n	Businesses must be located in Orange County.\n\n\n\nClick here to register.
X-ALT-DESC;FMTTYPE=text/html:<p>The CSUF SBDC is teaming up with LISC LA and Wells Fargo for their&nbsp\;<a data-auth="NotApplicable" href="https://lnks.gd/l/eyJhbGciOiJIUzI1NiJ9.eyJidWxsZXRpbl9saW5rX2lkIjoxMDIsInVyaSI6ImJwMjpjbGljayIsImJ1bGxldGluX2lkIjoiMjAyMDA1MDYuMjExNTA1NDEiLCJ1cmwiOiJodHRwczovL3d3dy5saXNjLm9yZy9sb3MtYW5nZWxlcy9jb3ZpZC0xOS1yZXNwb25zZS9saXNjLWxhLW9yYW5nZS1jb3VudHktc21hbGwtYnVzaW5lc3MtcmVsaWVmLWdyYW50LXByb2dyYW0vIn0.y2btf_h9eq_f7yvvUtlwAaQxHpm7SlX5TXF7bniaSys/br/78324302122-l" rel="noopener noreferrer" target="_blank">LISC OC Small Business Relief Program</a>&nbsp\;to offer grants to micro-businesses in Orange County.<br />\n<br />\nThanks to support from Wells Fargo\, LISC LA is providing 15 $5\,000 grants to small businesses affected by the COVID-19 Crisis. The SBDC will be&nbsp\;<a data-auth="NotApplicable" href="https://lnks.gd/l/eyJhbGciOiJIUzI1NiJ9.eyJidWxsZXRpbl9saW5rX2lkIjoxMDMsInVyaSI6ImJwMjpjbGljayIsImJ1bGxldGluX2lkIjoiMjAyMDA1MDYuMjExNTA1NDEiLCJ1cmwiOiJodHRwczovL2Z1bGxlcnRvbi56b29tLnVzL3dlYmluYXIvcmVnaXN0ZXIvV05fMTdKdnpWd2xScFN3MUNNb0VfRlFHQSJ9.2oLgmP0tSc5KRsQWN-WzipvPX4BlYjGoQuY1WLtWfTA/br/78324302122-l" rel="noopener noreferrer" target="_blank">hosting a webinar</a>&nbsp\;on May 7th\, 10:00 am - 10:30 am to provide businesses with more information on the grant application and eligibility requirements.</p>\n\n<p><br />\nThe application will open from May 8\, 2020 at 9:00 am PST and close May 9\, 2020 at 9:00 am PST. You can preview the application questions<a data-auth="NotApplicable" href="https://lnks.gd/l/eyJhbGciOiJIUzI1NiJ9.eyJidWxsZXRpbl9saW5rX2lkIjoxMDQsInVyaSI6ImJwMjpjbGljayIsImJ1bGxldGluX2lkIjoiMjAyMDA1MDYuMjExNTA1NDEiLCJ1cmwiOiJodHRwczovL2xpc2MuYXBwLmJveC5jb20vcy85bnh1bW5pZzkzajU3bzdnYjNkdWF1ajAyb3o4N2ZreiJ9.PbWGhOYiMj_8WMhXJDr-KSDcRJKOXfXJF5EPtFiUEsw/br/78324302122-l" rel="noopener noreferrer" target="_blank">&nbsp\;here</a>.</p>\n\n<p>Eligibility</p>\n\n<ul type="disc">\n	<li>Micro-businesses and enterprises affected by Covid-19 in Orange County\, especially those in underserved communities\, including entrepreneurs of color\, women- and veteran-owned businesses that often lack access to flexible\, affordable capital.</li>\n	<li>Businesses must have at least 2 employees and a maximum of 5 Full-Time Employees or 10 Part-Time Employees.</li>\n	<li>Applications will be reviewed based on criteria designed to prioritize particularly challenged businesses\, and the final grantees will be randomly selected from the top-scoring applicants.</li>\n	<li>Businesses must be located in Orange County.</li>\n</ul>\n<br />\n<a href="https://fullerton.zoom.us/webinar/register/WN_17JvzVwlRpSw1CMoE_FQGA" target="_blank">Click here to register.</a>
LOCATION:Zoom. Click here to register.
UID:e.887.24335
SEQUENCE:3
DTSTAMP:20260421T143521Z
URL:https://business.nocchamber.com/events/details/sbdc-webinar-registration-for-oc-small-business-grant-opportunity-24335
END:VEVENT

END:VCALENDAR
