BEGIN:VCALENDAR
VERSION:2.0
PRODID:-//ChamberMaster//Event Calendar 2.0//EN
METHOD:PUBLISH
X-PUBLISHED-TTL:P3D
REFRESH-INTERVAL:P3D
CALSCALE:GREGORIAN
BEGIN:VEVENT
DTSTART:20200616T180000Z
DTEND:20200616T190000Z
X-MICROSOFT-CDO-ALLDAYEVENT:FALSE
SUMMARY:SBDC Webinar: Paycheck Protection Program (PPP) Forgiveness
DESCRIPTION:The Paycheck Protection Program (PPP) is a loan designed to provide a direct incentive for small businesses to keep their workers on the payroll. SBA will forgive loans if all employees are kept on the payroll for eight weeks and the money is used for payroll\, rent\, mortgage interest\, or utilities.\n\nIf you have applied for the PPP and would like to learn how to start the process of being forgiven\, this webinar is for you. This webinar will dicuss the general forgiveness guidelines\, process\, and review the forgiveness application. Thirty minutes of this webinar will be dedicated to answering questions.
X-ALT-DESC;FMTTYPE=text/html:<p>The Paycheck Protection Program (PPP) is a loan designed to provide a direct incentive for small businesses to keep their workers on the payroll.&nbsp\;SBA will forgive loans if all employees are kept on the payroll for eight weeks and the money is used for payroll\, rent\, mortgage interest\, or utilities.</p>\n\n<p>If you have applied for the PPP and would like to learn how to start the process of being forgiven\, this webinar is for you. This webinar will dicuss&nbsp\;the general forgiveness guidelines\, process\, and review the forgiveness application. Thirty minutes of this webinar will be dedicated to answering questions.</p>\n
LOCATION:Online
UID:e.887.24407
SEQUENCE:3
DTSTAMP:20260421T131132Z
URL:https://business.nocchamber.com/events/details/sbdc-webinar-paycheck-protection-program-ppp-forgiveness-24407
END:VEVENT

END:VCALENDAR
