BEGIN:VCALENDAR
VERSION:2.0
PRODID:-//ChamberMaster//Event Calendar 2.0//EN
METHOD:PUBLISH
X-PUBLISHED-TTL:P3D
REFRESH-INTERVAL:P3D
CALSCALE:GREGORIAN
BEGIN:VEVENT
DTSTART:20200623T190000Z
DTEND:20200623T200000Z
X-MICROSOFT-CDO-ALLDAYEVENT:FALSE
SUMMARY:SBDC Webinar: Creating a Successful Business Plan
DESCRIPTION:Successful business planning leads to successful business results. Take the most important step and build your business solidly from the very beginning or use it to guide an existing enterprise. In this interactive workshop\, you will learn how to:\n\n\n	Break apart the components of the business plan into manageable steps\n	Define your business succinctly\n	Research your competition and target market\n	Develop your operating and marketing plans\n	Understand the major elements of the financial statements\n\nRegister by June 23 at 11:30 a.m.
X-ALT-DESC;FMTTYPE=text/html:<p><span style="font-size:12px\;">Successful business planning leads to successful business results. Take the most important step and build your business solidly from the very beginning or use it to guide an existing enterprise. In this interactive workshop\, you will learn how to:</span></p>\n\n<ul>\n	<li><span style="font-size:12px\;">Break apart the components of the business plan into manageable steps</span></li>\n	<li><span style="font-size:12px\;">Define your business succinctly</span></li>\n	<li><span style="font-size:12px\;">Research your competition and target market</span></li>\n	<li><span style="font-size:12px\;">Develop your operating and marketing plans</span></li>\n	<li><span style="font-size:12px\;">Understand the major elements of the financial statements</span></li>\n</ul>\n<span style="font-size:12px\;">Register by June 23 at 11:30 a.m.</span>
LOCATION:Online
UID:e.887.24422
SEQUENCE:3
DTSTAMP:20260421T131234Z
URL:https://business.nocchamber.com/events/details/sbdc-webinar-creating-a-successful-business-plan-24422
END:VEVENT

END:VCALENDAR
