BEGIN:VCALENDAR
VERSION:2.0
PRODID:-//ChamberMaster//Event Calendar 2.0//EN
METHOD:PUBLISH
X-PUBLISHED-TTL:P3D
REFRESH-INTERVAL:P3D
CALSCALE:GREGORIAN
BEGIN:VEVENT
DTSTART:20190808T013000Z
DTEND:20190808T030000Z
X-MICROSOFT-CDO-ALLDAYEVENT:FALSE
SUMMARY:SBDC - Using Data to Drive Business Growth
DESCRIPTION:Data and analytics can help you gain insight into how consumers engage with your business online. In this workshop\, SBDC will offer tips for using Google Analytics to analyze customer trends and provide best practices for turning these insights into well-informed\, actionable decisions.\n\n\n\nTopics covered:\n\n\n\n	   Identifying business goals (and how you plan to use your online presence to achieve them)\n	    Incorporating data into your marketing plan\n	   Selecting tools to help you find the answers you need\n\n\nHere are 7 things you can be missing out on if you're not at this event...\n\n1. How to claim your Google My Business Profile\n\n2. The ability to verify your profile without using the Postcard Method\n\n3. How to access the free website that Google provided with your profile\n\n4. How prospects and customers can message you without them seeing your phone number\n\n5. How to book appointments using your profile\n\n6. How to review the insights in your Google Profile to make business decisions that will help grow your business\n\n7. The chance to ask your questions!
X-ALT-DESC;FMTTYPE=text/html:<div>\n<p>Data and analytics can help you gain insight into how consumers engage with your business online. In this workshop\, SBDC will offer tips for using Google Analytics to analyze customer trends and provide best practices for turning these insights into well-informed\, actionable decisions.</p>\n</div>\n\n<div>\n<p>Topics covered:</p>\n</div>\n\n<ul>\n	<li>&nbsp\; &nbsp\;Identifying business goals (and how you plan to use your online presence to achieve them)</li>\n	<li>&nbsp\; &nbsp\; Incorporating data into your marketing plan</li>\n	<li>&nbsp\; &nbsp\;Selecting tools to help you find the answers you need</li>\n</ul>\n\n<p>Here are 7 things you can be missing out on if you&#39\;re not at this event...</p>\n\n<p>1.&nbsp\;How to claim your Google My Business Profile<br />\n2.&nbsp\;The ability to verify your profile without using the Postcard Method<br />\n3.&nbsp\;How to access the free website that Google provided with your profile<br />\n4.&nbsp\;How prospects and customers can message you without them seeing your phone number<br />\n5.&nbsp\;How to book appointments using your profile<br />\n6.&nbsp\;How to review the insights in your Google Profile to make business decisions that will help grow your business</p>\n\n<p>7.&nbsp\;The chance to ask your questions!</p>\n
LOCATION:Rancho Santiago Community College District 2323 N. Broadway\, Room 107 Santa Ana\, CA 92706
UID:e.887.23625
SEQUENCE:3
DTSTAMP:20260422T015222Z
URL:https://business.nocchamber.com/events/details/sbdc-using-data-to-drive-business-growth-23625
END:VEVENT

END:VCALENDAR
