BEGIN:VCALENDAR
VERSION:2.0
PRODID:-//ChamberMaster//Event Calendar 2.0//EN
METHOD:PUBLISH
X-PUBLISHED-TTL:P3D
REFRESH-INTERVAL:P3D
CALSCALE:GREGORIAN
BEGIN:VEVENT
DTSTART:20190813T190000Z
DTEND:20190813T200000Z
X-MICROSOFT-CDO-ALLDAYEVENT:FALSE
SUMMARY:SBDC - Supercharge Your Marketing: Virtual Mini-Series
DESCRIPTION:Join SBDC's online 5-week webinar mini-series and learn what you can do to boost your business. Every entrepreneur faces the inevitable task of marketing their business\, why not simplify the process? Get help with social media\, online advertising\, and content marketing to achieve successful marketing campaigns.
X-ALT-DESC;FMTTYPE=text/html:Join SBDC&#39\;s online 5-week webinar mini-series and learn what you can do to boost your business. Every entrepreneur faces the inevitable task of marketing their business\, why not simplify the process?&nbsp\;Get help with social media\, online advertising\, and content marketing to achieve successful marketing campaigns.
LOCATION:Online Webinar
UID:e.887.23457
SEQUENCE:3
DTSTAMP:20260422T015542Z
URL:https://business.nocchamber.com/events/details/sbdc-supercharge-your-marketing-virtual-mini-series-08-13-2019-23457
END:VEVENT

END:VCALENDAR
