BEGIN:VCALENDAR
VERSION:2.0
PRODID:-//ChamberMaster//Event Calendar 2.0//EN
METHOD:PUBLISH
X-PUBLISHED-TTL:P3D
REFRESH-INTERVAL:P3D
CALSCALE:GREGORIAN
BEGIN:VEVENT
DTSTART:20181115T023000Z
DTEND:20181115T040000Z
X-MICROSOFT-CDO-ALLDAYEVENT:FALSE
SUMMARY:SBDC - Succeeding in a Micro Moments World in Partnership with Google
DESCRIPTION:The SBDC is partnering with Google in Succeeding in a Micro Moments World presentation:\n\n	Identifying consumer behaviors and trends\n	Delivering relevant content and personalized online experiences\n	Creating a frictionless conversion process
X-ALT-DESC;FMTTYPE=text/html:The SBDC is partnering with Google in<strong> Succeeding in a Micro Moments World </strong>presentation:\n<ol>\n	<li>Identifying consumer behaviors and trends</li>\n	<li>Delivering relevant content and personalized online experiences</li>\n	<li>Creating a frictionless conversion process</li>\n</ol>\n
LOCATION:Rancho Santiago Community College District 2323 N. Broadway\, Room 107 Santa Ana\, CA 92706
UID:e.887.22785
SEQUENCE:3
DTSTAMP:20260422T125151Z
URL:https://business.nocchamber.com/events/details/sbdc-succeeding-in-a-micro-moments-world-in-partnership-with-google-22785
END:VEVENT

END:VCALENDAR
