BEGIN:VCALENDAR
VERSION:2.0
PRODID:-//ChamberMaster//Event Calendar 2.0//EN
METHOD:PUBLISH
X-PUBLISHED-TTL:P3D
REFRESH-INTERVAL:P3D
CALSCALE:GREGORIAN
BEGIN:VEVENT
DTSTART:20200612T220000Z
DTEND:20200612T230000Z
X-MICROSOFT-CDO-ALLDAYEVENT:FALSE
SUMMARY:SBDC - Statewide Retail Industry Informational Webinar
DESCRIPTION:Statewide Industry Specific guidance and checklists you need to know to safely reopen your retail business.
X-ALT-DESC;FMTTYPE=text/html:<span style="color: rgb(35\, 35\, 51)\; font-family: Lato\, Helvetica\, Arial\; font-size: 14px\;">Statewide Industry Specific guidance and checklists you need to know to safely reopen your&nbsp\;<strong>retail</strong> business.</span>
LOCATION:Zoom
UID:e.887.24399
SEQUENCE:3
DTSTAMP:20260421T131411Z
URL:https://business.nocchamber.com/events/details/sbdc-statewide-retail-industry-informational-webinar-24399
END:VEVENT

END:VCALENDAR
