BEGIN:VCALENDAR
VERSION:2.0
PRODID:-//ChamberMaster//Event Calendar 2.0//EN
METHOD:PUBLISH
X-PUBLISHED-TTL:P3D
REFRESH-INTERVAL:P3D
CALSCALE:GREGORIAN
BEGIN:VEVENT
DTSTART:20190626T013000Z
DTEND:20190626T033000Z
X-MICROSOFT-CDO-ALLDAYEVENT:FALSE
SUMMARY:SBDC - How to Start a Small Business Veteran Edition
DESCRIPTION:Learn the steps to starting your own business at the "How to Start a Small Business" workshop\, presented by an SBDC Business Consultant.\n\n\n\nThis introductory course will discuss informational topics such as Being an Entrepreneur\, Business Planning\, Small Business Financing\, Franchising\, the Legal Forms of Organization\, Licensing and Permits and the No-Cost Services Offered By The Inland Empire SBDC.\n\n\n\nAdded Bonus: Darius Mahajer\, Main Street Launch\, will be present to discuss their Veteran Launch Lending Program.
X-ALT-DESC;FMTTYPE=text/html:Learn the steps to starting your own business at the &ldquo\;How to Start a Small Business&rdquo\; workshop\, presented by an SBDC Business Consultant.<br />\n<br />\nThis introductory course will discuss informational topics such as Being an Entrepreneur\, Business Planning\, Small Business Financing\, Franchising\, the Legal Forms of Organization\, Licensing and Permits and the No-Cost Services Offered By The Inland Empire SBDC.<br />\n<br />\nAdded Bonus: Darius Mahajer\, Main Street Launch\, will be present to discuss their Veteran Launch Lending Program.
LOCATION:Ovitt Family Community Library 215 E C St (Main Meeting Room) Ontario\, CA 91764
UID:e.887.23406
SEQUENCE:3
DTSTAMP:20260422T041803Z
URL:https://business.nocchamber.com/events/details/sbdc-how-to-start-a-small-business-veteran-edition-23406
END:VEVENT

END:VCALENDAR
