BEGIN:VCALENDAR
VERSION:2.0
PRODID:-//ChamberMaster//Event Calendar 2.0//EN
METHOD:PUBLISH
X-PUBLISHED-TTL:P3D
REFRESH-INTERVAL:P3D
CALSCALE:GREGORIAN
BEGIN:VEVENT
DTSTART;VALUE=DATE:20181101
DTEND;VALUE=DATE:20181102
TRANSP:TRANSPARENT
X-MICROSOFT-CDO-ALLDAYEVENT:TRUE
SUMMARY:SBDC - Guide to Starting Your Business
DESCRIPTION:The SBDC hosts: Guide to Starting Your Business\n\n	Planning and launching a business\n	Identifying specific audience\n	SWOT Analysis\n	Key elements in the online presence
X-ALT-DESC;FMTTYPE=text/html:The SBDC hosts:&nbsp\;<strong>Guide to Starting Your Business</strong>\n<ul>\n	<li>Planning and launching a business</li>\n	<li>Identifying specific&nbsp\;audience</li>\n	<li>SWOT Analysis</li>\n	<li>Key elements in the online presence</li>\n</ul>\n
LOCATION:Digital Media Center 1300 S. Bristol St.\, Room 103 Santa Ana\, CA 92704
UID:e.887.22784
SEQUENCE:3
DTSTAMP:20260422T125039Z
URL:https://business.nocchamber.com/events/details/sbdc-guide-to-starting-your-business-22784
END:VEVENT

END:VCALENDAR
